BEGIN:VCALENDAR
VERSION:2.0
PRODID:-//The Arts Center - ECPv6.15.12.2//NONSGML v1.0//EN
CALSCALE:GREGORIAN
METHOD:PUBLISH
X-WR-CALNAME:The Arts Center
X-ORIGINAL-URL:https://theartscenter.net
X-WR-CALDESC:Events for The Arts Center
REFRESH-INTERVAL;VALUE=DURATION:PT1H
X-Robots-Tag:noindex
X-PUBLISHED-TTL:PT1H
BEGIN:VTIMEZONE
TZID:America/Los_Angeles
BEGIN:DAYLIGHT
TZOFFSETFROM:-0800
TZOFFSETTO:-0700
TZNAME:PDT
DTSTART:20250309T100000
END:DAYLIGHT
BEGIN:STANDARD
TZOFFSETFROM:-0700
TZOFFSETTO:-0800
TZNAME:PST
DTSTART:20251102T090000
END:STANDARD
BEGIN:DAYLIGHT
TZOFFSETFROM:-0800
TZOFFSETTO:-0700
TZNAME:PDT
DTSTART:20260308T100000
END:DAYLIGHT
BEGIN:STANDARD
TZOFFSETFROM:-0700
TZOFFSETTO:-0800
TZNAME:PST
DTSTART:20261101T090000
END:STANDARD
BEGIN:DAYLIGHT
TZOFFSETFROM:-0800
TZOFFSETTO:-0700
TZNAME:PDT
DTSTART:20270314T100000
END:DAYLIGHT
BEGIN:STANDARD
TZOFFSETFROM:-0700
TZOFFSETTO:-0800
TZNAME:PST
DTSTART:20271107T090000
END:STANDARD
END:VTIMEZONE
BEGIN:VEVENT
DTSTART;TZID=America/Los_Angeles:20260803T090000
DTEND;TZID=America/Los_Angeles:20260803T120000
DTSTAMP:20260421T153626
CREATED:20260309T231735Z
LAST-MODIFIED:20260409T203403Z
UID:10000676-1785747600-1785758400@theartscenter.net
SUMMARY:Sewing Basic (Ages 9-12)
DESCRIPTION:Design and sew a personalized tote bag while learning basic hand sewing and creative fabric techniques. \n\n\n\n\n\n\n\n\n\n\nhttps://theartscenter.net/arts-adventures-summer
URL:https://theartscenter.net/event/sewing-basic-ages-9-12/2026-08-03/
LOCATION:Corvallis Museum\, 411 SW 2nd St\, Corvallis\, OR\, 97333\, United States
ATTACH;FMTTYPE=image/png:https://theartscenter.net/wp-content/uploads/2026/03/Website-Hero_1920x1080_Summer-Adventures-1-scaled.png
END:VEVENT
BEGIN:VEVENT
DTSTART;TZID=America/Los_Angeles:20260804T090000
DTEND;TZID=America/Los_Angeles:20260804T120000
DTSTAMP:20260421T153626
CREATED:20260309T231735Z
LAST-MODIFIED:20260409T203403Z
UID:10000677-1785834000-1785844800@theartscenter.net
SUMMARY:Sewing Basic (Ages 9-12)
DESCRIPTION:Design and sew a personalized tote bag while learning basic hand sewing and creative fabric techniques. \n\n\n\n\n\n\n\n\n\n\nhttps://theartscenter.net/arts-adventures-summer
URL:https://theartscenter.net/event/sewing-basic-ages-9-12/2026-08-04/
LOCATION:Corvallis Museum\, 411 SW 2nd St\, Corvallis\, OR\, 97333\, United States
ATTACH;FMTTYPE=image/png:https://theartscenter.net/wp-content/uploads/2026/03/Website-Hero_1920x1080_Summer-Adventures-1-scaled.png
END:VEVENT
BEGIN:VEVENT
DTSTART;TZID=America/Los_Angeles:20260805T090000
DTEND;TZID=America/Los_Angeles:20260805T120000
DTSTAMP:20260421T153626
CREATED:20260309T231735Z
LAST-MODIFIED:20260409T203403Z
UID:10000678-1785920400-1785931200@theartscenter.net
SUMMARY:Sewing Basic (Ages 9-12)
DESCRIPTION:Design and sew a personalized tote bag while learning basic hand sewing and creative fabric techniques. \n\n\n\n\n\n\n\n\n\n\nhttps://theartscenter.net/arts-adventures-summer
URL:https://theartscenter.net/event/sewing-basic-ages-9-12/2026-08-05/
LOCATION:Corvallis Museum\, 411 SW 2nd St\, Corvallis\, OR\, 97333\, United States
ATTACH;FMTTYPE=image/png:https://theartscenter.net/wp-content/uploads/2026/03/Website-Hero_1920x1080_Summer-Adventures-1-scaled.png
END:VEVENT
BEGIN:VEVENT
DTSTART;TZID=America/Los_Angeles:20260806T090000
DTEND;TZID=America/Los_Angeles:20260806T120000
DTSTAMP:20260421T153626
CREATED:20260309T231735Z
LAST-MODIFIED:20260409T203403Z
UID:10000679-1786006800-1786017600@theartscenter.net
SUMMARY:Sewing Basic (Ages 9-12)
DESCRIPTION:Design and sew a personalized tote bag while learning basic hand sewing and creative fabric techniques. \n\n\n\n\n\n\n\n\n\n\nhttps://theartscenter.net/arts-adventures-summer
URL:https://theartscenter.net/event/sewing-basic-ages-9-12/2026-08-06/
LOCATION:Corvallis Museum\, 411 SW 2nd St\, Corvallis\, OR\, 97333\, United States
ATTACH;FMTTYPE=image/png:https://theartscenter.net/wp-content/uploads/2026/03/Website-Hero_1920x1080_Summer-Adventures-1-scaled.png
END:VEVENT
END:VCALENDAR