BEGIN:VCALENDAR
VERSION:2.0
PRODID:-//The Arts Center - ECPv6.15.12.2//NONSGML v1.0//EN
CALSCALE:GREGORIAN
METHOD:PUBLISH
X-WR-CALNAME:The Arts Center
X-ORIGINAL-URL:https://theartscenter.net
X-WR-CALDESC:Events for The Arts Center
REFRESH-INTERVAL;VALUE=DURATION:PT1H
X-Robots-Tag:noindex
X-PUBLISHED-TTL:PT1H
BEGIN:VTIMEZONE
TZID:America/Los_Angeles
BEGIN:DAYLIGHT
TZOFFSETFROM:-0800
TZOFFSETTO:-0700
TZNAME:PDT
DTSTART:20250309T100000
END:DAYLIGHT
BEGIN:STANDARD
TZOFFSETFROM:-0700
TZOFFSETTO:-0800
TZNAME:PST
DTSTART:20251102T090000
END:STANDARD
BEGIN:DAYLIGHT
TZOFFSETFROM:-0800
TZOFFSETTO:-0700
TZNAME:PDT
DTSTART:20260308T100000
END:DAYLIGHT
BEGIN:STANDARD
TZOFFSETFROM:-0700
TZOFFSETTO:-0800
TZNAME:PST
DTSTART:20261101T090000
END:STANDARD
BEGIN:DAYLIGHT
TZOFFSETFROM:-0800
TZOFFSETTO:-0700
TZNAME:PDT
DTSTART:20270314T100000
END:DAYLIGHT
BEGIN:STANDARD
TZOFFSETFROM:-0700
TZOFFSETTO:-0800
TZNAME:PST
DTSTART:20271107T090000
END:STANDARD
END:VTIMEZONE
BEGIN:VTIMEZONE
TZID:UTC
BEGIN:STANDARD
TZOFFSETFROM:+0000
TZOFFSETTO:+0000
TZNAME:UTC
DTSTART:20250101T000000
END:STANDARD
END:VTIMEZONE
BEGIN:VEVENT
DTSTART;TZID=America/Los_Angeles:20260716T140000
DTEND;TZID=America/Los_Angeles:20260716T170000
DTSTAMP:20260423T043901
CREATED:20260309T232039Z
LAST-MODIFIED:20260409T202647Z
UID:10000687-1784210400-1784221200@theartscenter.net
SUMMARY:Needle Felting Characters (Ages 11-14)
DESCRIPTION:Create an original wool creature while learning the basics of needle felting and character sculpture. \n\n\n\n\n\n\n\n\n\n\nhttps://theartscenter.net/arts-adventures-summer
URL:https://theartscenter.net/event/needle-felting-characters-ages-11-14/2026-07-16/
LOCATION:Corvallis Museum\, 411 SW 2nd St\, Corvallis\, OR\, 97333\, United States
ATTACH;FMTTYPE=image/png:https://theartscenter.net/wp-content/uploads/2026/03/Website-Hero_1920x1080_Summer-Adventures-1-scaled.png
END:VEVENT
BEGIN:VEVENT
DTSTART;TZID=UTC:20260716T160000
DTEND;TZID=UTC:20260716T190000
DTSTAMP:20260423T043901
CREATED:20250306T191850Z
LAST-MODIFIED:20260409T200537Z
UID:10000078-1784217600-1784228400@theartscenter.net
SUMMARY:CAW
DESCRIPTION:The Corvallis Arts Walk (CAW) is a monthly event held by local artists every third Thursday of each month. View the stunning visual artwork at venues around town and experience the creative spirit of Corvallis. The Arts Center Main Gallery and Corrine Woodman Gallery are open every Thursday from 4-7pm for CAW. \nVisit Corvallis Arts Walk for up-to-date listings of all the participating venues.
URL:https://theartscenter.net/event/caw/2026-07-16/
LOCATION:The Arts Center\, 700 SW Madison Ave\, Corvallis\, OR\, 97330\, United States
ATTACH;FMTTYPE=image/png:https://theartscenter.net/wp-content/uploads/2025/03/Screen-Shot-2023-05-17-at-8.03.09-AM.png
END:VEVENT
BEGIN:VEVENT
DTSTART;TZID=America/Los_Angeles:20260718T000000
DTEND;TZID=America/Los_Angeles:20260719T235959
DTSTAMP:20260423T043901
CREATED:20260415T235104Z
LAST-MODIFIED:20260415T235106Z
UID:10000791-1784332800-1784505599@theartscenter.net
SUMMARY:Graand Kinetic Challenge
DESCRIPTION:The da Vinci Days’ Graand Kinetic Challenge is a 2-day race where human-powered\, pedal-pushed\, kinetic art sculpture vehicles compete over a course that runs throughout Corvallis\, traversing over land\, over sand\, through mud\, and floating on the Willamette River.  The best viewing spots on Saturday\, July 18th\, will be at OSU’s PRAx (Start & Finish Line)\, Campus Way\, and Benton County Fairgrounds for the Sand Dune Challenge.  For Sunday\, July 19th\, head down to Crystal Lake Park for the Mud Bog Challenge and the Willamette River Entry.  Teams exit at Michael’s Landing to the Finish Line at Riverfront Park in front of Sugar J’s\, where you can meet the teams and ask about their art + engineering sculptures.
URL:https://theartscenter.net/event/graand-kinetic-challenge/
LOCATION:PRAx\, 470 SW 15th Street\, Corvallis\, 97333
ATTACH;FMTTYPE=image/jpeg:https://theartscenter.net/wp-content/uploads/2026/04/2026-Parks-Rec-digital-GKC-CK-ad-1920-x-1080-px.jpg
ORGANIZER;CN="da Vinci Days Graand Kinetic Challenge":MAILTO:gkc@davincidays.org
END:VEVENT
BEGIN:VEVENT
DTSTART;TZID=America/Los_Angeles:20260720T090000
DTEND;TZID=America/Los_Angeles:20260720T130000
DTSTAMP:20260423T043901
CREATED:20260309T231347Z
LAST-MODIFIED:20260409T202730Z
UID:10000668-1784538000-1784552400@theartscenter.net
SUMMARY:Zines & Journals (Ages 9-13)
DESCRIPTION:Learn simple bookbinding and zine-making to create a handmade journal and one-page zine using recycled materials. \n\n\n\n\n\n\n\n\n\n\nhttps://theartscenter.net/arts-adventures-summer
URL:https://theartscenter.net/event/zines-journals-ages-9-13/2026-07-20/
LOCATION:Corvallis Museum\, 411 SW 2nd St\, Corvallis\, OR\, 97333\, United States
ATTACH;FMTTYPE=image/png:https://theartscenter.net/wp-content/uploads/2026/03/Website-Hero_1920x1080_Summer-Adventures-1-scaled.png
END:VEVENT
BEGIN:VEVENT
DTSTART;TZID=America/Los_Angeles:20260720T140000
DTEND;TZID=America/Los_Angeles:20260720T170000
DTSTAMP:20260423T043901
CREATED:20260309T232200Z
LAST-MODIFIED:20260409T202756Z
UID:10000688-1784556000-1784566800@theartscenter.net
SUMMARY:Upcycling Fashion (Ages 11-14)
DESCRIPTION:Transform thrifted clothing into a one-of-a-kind jacket while learning creative alteration and upcycling techniques. \n\n\n\n\n\n\n\n\n\n\nhttps://theartscenter.net/arts-adventures-summer
URL:https://theartscenter.net/event/upcycling-fashion-ages-11-14/2026-07-20/
LOCATION:Corvallis Museum\, 411 SW 2nd St\, Corvallis\, OR\, 97333\, United States
ATTACH;FMTTYPE=image/png:https://theartscenter.net/wp-content/uploads/2026/03/Website-Hero_1920x1080_Summer-Adventures-1-scaled.png
END:VEVENT
BEGIN:VEVENT
DTSTART;TZID=America/Los_Angeles:20260720T180000
DTEND;TZID=America/Los_Angeles:20260720T200000
DTSTAMP:20260423T043901
CREATED:20260331T192218Z
LAST-MODIFIED:20260409T202827Z
UID:10000722-1784570400-1784577600@theartscenter.net
SUMMARY:Exploring Color
DESCRIPTION:Explore how color works—and how to use it with confidence—in this hands-on 5-day workshop for adult artists\, led by Leah Wilson. Through experimentation and guided exercises\, you’ll learn color relationships\, optical effects\, and expressive techniques while developing a personal palette that reflects your style. \n\n\n\n\n\n\n\n\n\n\nExploring Color
URL:https://theartscenter.net/event/exploring-color-3/2026-07-20/
LOCATION:Tunison Community Room\, 2270 SW Butterfield Dr\, Corvallis\, Oregon\, 97333
ATTACH;FMTTYPE=image/png:https://theartscenter.net/wp-content/uploads/2025/06/Exploring-Color_2026_.png
END:VEVENT
BEGIN:VEVENT
DTSTART;TZID=America/Los_Angeles:20260721T090000
DTEND;TZID=America/Los_Angeles:20260721T130000
DTSTAMP:20260423T043901
CREATED:20260309T231347Z
LAST-MODIFIED:20260409T202730Z
UID:10000669-1784624400-1784638800@theartscenter.net
SUMMARY:Zines & Journals (Ages 9-13)
DESCRIPTION:Learn simple bookbinding and zine-making to create a handmade journal and one-page zine using recycled materials. \n\n\n\n\n\n\n\n\n\n\nhttps://theartscenter.net/arts-adventures-summer
URL:https://theartscenter.net/event/zines-journals-ages-9-13/2026-07-21/
LOCATION:Corvallis Museum\, 411 SW 2nd St\, Corvallis\, OR\, 97333\, United States
ATTACH;FMTTYPE=image/png:https://theartscenter.net/wp-content/uploads/2026/03/Website-Hero_1920x1080_Summer-Adventures-1-scaled.png
END:VEVENT
BEGIN:VEVENT
DTSTART;TZID=America/Los_Angeles:20260721T140000
DTEND;TZID=America/Los_Angeles:20260721T170000
DTSTAMP:20260423T043901
CREATED:20260309T232200Z
LAST-MODIFIED:20260409T202756Z
UID:10000689-1784642400-1784653200@theartscenter.net
SUMMARY:Upcycling Fashion (Ages 11-14)
DESCRIPTION:Transform thrifted clothing into a one-of-a-kind jacket while learning creative alteration and upcycling techniques. \n\n\n\n\n\n\n\n\n\n\nhttps://theartscenter.net/arts-adventures-summer
URL:https://theartscenter.net/event/upcycling-fashion-ages-11-14/2026-07-21/
LOCATION:Corvallis Museum\, 411 SW 2nd St\, Corvallis\, OR\, 97333\, United States
ATTACH;FMTTYPE=image/png:https://theartscenter.net/wp-content/uploads/2026/03/Website-Hero_1920x1080_Summer-Adventures-1-scaled.png
END:VEVENT
BEGIN:VEVENT
DTSTART;TZID=America/Los_Angeles:20260721T180000
DTEND;TZID=America/Los_Angeles:20260721T200000
DTSTAMP:20260423T043901
CREATED:20260331T192218Z
LAST-MODIFIED:20260409T202827Z
UID:10000723-1784656800-1784664000@theartscenter.net
SUMMARY:Exploring Color
DESCRIPTION:Explore how color works—and how to use it with confidence—in this hands-on 5-day workshop for adult artists\, led by Leah Wilson. Through experimentation and guided exercises\, you’ll learn color relationships\, optical effects\, and expressive techniques while developing a personal palette that reflects your style. \n\n\n\n\n\n\n\n\n\n\nExploring Color
URL:https://theartscenter.net/event/exploring-color-3/2026-07-21/
LOCATION:Tunison Community Room\, 2270 SW Butterfield Dr\, Corvallis\, Oregon\, 97333
ATTACH;FMTTYPE=image/png:https://theartscenter.net/wp-content/uploads/2025/06/Exploring-Color_2026_.png
END:VEVENT
BEGIN:VEVENT
DTSTART;TZID=America/Los_Angeles:20260722T090000
DTEND;TZID=America/Los_Angeles:20260722T130000
DTSTAMP:20260423T043901
CREATED:20260309T231347Z
LAST-MODIFIED:20260409T202730Z
UID:10000670-1784710800-1784725200@theartscenter.net
SUMMARY:Zines & Journals (Ages 9-13)
DESCRIPTION:Learn simple bookbinding and zine-making to create a handmade journal and one-page zine using recycled materials. \n\n\n\n\n\n\n\n\n\n\nhttps://theartscenter.net/arts-adventures-summer
URL:https://theartscenter.net/event/zines-journals-ages-9-13/2026-07-22/
LOCATION:Corvallis Museum\, 411 SW 2nd St\, Corvallis\, OR\, 97333\, United States
ATTACH;FMTTYPE=image/png:https://theartscenter.net/wp-content/uploads/2026/03/Website-Hero_1920x1080_Summer-Adventures-1-scaled.png
END:VEVENT
BEGIN:VEVENT
DTSTART;TZID=America/Los_Angeles:20260722T140000
DTEND;TZID=America/Los_Angeles:20260722T170000
DTSTAMP:20260423T043901
CREATED:20260309T232200Z
LAST-MODIFIED:20260409T202756Z
UID:10000690-1784728800-1784739600@theartscenter.net
SUMMARY:Upcycling Fashion (Ages 11-14)
DESCRIPTION:Transform thrifted clothing into a one-of-a-kind jacket while learning creative alteration and upcycling techniques. \n\n\n\n\n\n\n\n\n\n\nhttps://theartscenter.net/arts-adventures-summer
URL:https://theartscenter.net/event/upcycling-fashion-ages-11-14/2026-07-22/
LOCATION:Corvallis Museum\, 411 SW 2nd St\, Corvallis\, OR\, 97333\, United States
ATTACH;FMTTYPE=image/png:https://theartscenter.net/wp-content/uploads/2026/03/Website-Hero_1920x1080_Summer-Adventures-1-scaled.png
END:VEVENT
BEGIN:VEVENT
DTSTART;TZID=America/Los_Angeles:20260722T180000
DTEND;TZID=America/Los_Angeles:20260722T200000
DTSTAMP:20260423T043901
CREATED:20260331T192218Z
LAST-MODIFIED:20260409T202827Z
UID:10000724-1784743200-1784750400@theartscenter.net
SUMMARY:Exploring Color
DESCRIPTION:Explore how color works—and how to use it with confidence—in this hands-on 5-day workshop for adult artists\, led by Leah Wilson. Through experimentation and guided exercises\, you’ll learn color relationships\, optical effects\, and expressive techniques while developing a personal palette that reflects your style. \n\n\n\n\n\n\n\n\n\n\nExploring Color
URL:https://theartscenter.net/event/exploring-color-3/2026-07-22/
LOCATION:Tunison Community Room\, 2270 SW Butterfield Dr\, Corvallis\, Oregon\, 97333
ATTACH;FMTTYPE=image/png:https://theartscenter.net/wp-content/uploads/2025/06/Exploring-Color_2026_.png
END:VEVENT
BEGIN:VEVENT
DTSTART;TZID=America/Los_Angeles:20260723T090000
DTEND;TZID=America/Los_Angeles:20260723T130000
DTSTAMP:20260423T043901
CREATED:20260309T231347Z
LAST-MODIFIED:20260409T202730Z
UID:10000671-1784797200-1784811600@theartscenter.net
SUMMARY:Zines & Journals (Ages 9-13)
DESCRIPTION:Learn simple bookbinding and zine-making to create a handmade journal and one-page zine using recycled materials. \n\n\n\n\n\n\n\n\n\n\nhttps://theartscenter.net/arts-adventures-summer
URL:https://theartscenter.net/event/zines-journals-ages-9-13/2026-07-23/
LOCATION:Corvallis Museum\, 411 SW 2nd St\, Corvallis\, OR\, 97333\, United States
ATTACH;FMTTYPE=image/png:https://theartscenter.net/wp-content/uploads/2026/03/Website-Hero_1920x1080_Summer-Adventures-1-scaled.png
END:VEVENT
BEGIN:VEVENT
DTSTART;TZID=America/Los_Angeles:20260723T140000
DTEND;TZID=America/Los_Angeles:20260723T170000
DTSTAMP:20260423T043901
CREATED:20260309T232200Z
LAST-MODIFIED:20260409T202756Z
UID:10000691-1784815200-1784826000@theartscenter.net
SUMMARY:Upcycling Fashion (Ages 11-14)
DESCRIPTION:Transform thrifted clothing into a one-of-a-kind jacket while learning creative alteration and upcycling techniques. \n\n\n\n\n\n\n\n\n\n\nhttps://theartscenter.net/arts-adventures-summer
URL:https://theartscenter.net/event/upcycling-fashion-ages-11-14/2026-07-23/
LOCATION:Corvallis Museum\, 411 SW 2nd St\, Corvallis\, OR\, 97333\, United States
ATTACH;FMTTYPE=image/png:https://theartscenter.net/wp-content/uploads/2026/03/Website-Hero_1920x1080_Summer-Adventures-1-scaled.png
END:VEVENT
BEGIN:VEVENT
DTSTART;TZID=America/Los_Angeles:20260723T180000
DTEND;TZID=America/Los_Angeles:20260723T200000
DTSTAMP:20260423T043901
CREATED:20260331T192218Z
LAST-MODIFIED:20260409T202827Z
UID:10000725-1784829600-1784836800@theartscenter.net
SUMMARY:Exploring Color
DESCRIPTION:Explore how color works—and how to use it with confidence—in this hands-on 5-day workshop for adult artists\, led by Leah Wilson. Through experimentation and guided exercises\, you’ll learn color relationships\, optical effects\, and expressive techniques while developing a personal palette that reflects your style. \n\n\n\n\n\n\n\n\n\n\nExploring Color
URL:https://theartscenter.net/event/exploring-color-3/2026-07-23/
LOCATION:Tunison Community Room\, 2270 SW Butterfield Dr\, Corvallis\, Oregon\, 97333
ATTACH;FMTTYPE=image/png:https://theartscenter.net/wp-content/uploads/2025/06/Exploring-Color_2026_.png
END:VEVENT
BEGIN:VEVENT
DTSTART;TZID=America/Los_Angeles:20260724T180000
DTEND;TZID=America/Los_Angeles:20260724T200000
DTSTAMP:20260423T043901
CREATED:20260331T192218Z
LAST-MODIFIED:20260409T202827Z
UID:10000726-1784916000-1784923200@theartscenter.net
SUMMARY:Exploring Color
DESCRIPTION:Explore how color works—and how to use it with confidence—in this hands-on 5-day workshop for adult artists\, led by Leah Wilson. Through experimentation and guided exercises\, you’ll learn color relationships\, optical effects\, and expressive techniques while developing a personal palette that reflects your style. \n\n\n\n\n\n\n\n\n\n\nExploring Color
URL:https://theartscenter.net/event/exploring-color-3/2026-07-24/
LOCATION:Tunison Community Room\, 2270 SW Butterfield Dr\, Corvallis\, Oregon\, 97333
ATTACH;FMTTYPE=image/png:https://theartscenter.net/wp-content/uploads/2025/06/Exploring-Color_2026_.png
END:VEVENT
BEGIN:VEVENT
DTSTART;TZID=America/Los_Angeles:20260725T130000
DTEND;TZID=America/Los_Angeles:20260725T170000
DTSTAMP:20260423T043901
CREATED:20260331T203845Z
LAST-MODIFIED:20260409T202916Z
UID:10000727-1784984400-1784998800@theartscenter.net
SUMMARY:Handbuilt Ceramics Plates with Character
DESCRIPTION:Create playful 3D character plates in this hands-on\, two-day ceramics workshop with artist Erika Rier. Learn pinch and slab techniques\, attachment methods\, and underglaze decoration to bring your clay creations to life. All materials provided. \n\n\n\n\n\n\n\n\n\n\nHandbuilt Ceramics Plates with Character
URL:https://theartscenter.net/event/handbuilt-ceramics-plates-with-character/2026-07-25/
LOCATION:The Arts Center – Ceramics Studio\, 700 SW Madison\, Corvallis\, Oregon\, 97330\, United States
ATTACH;FMTTYPE=image/jpeg:https://theartscenter.net/wp-content/uploads/2026/03/Class-Image_Erika-Rier_2026-scaled.jpg
END:VEVENT
BEGIN:VEVENT
DTSTART;TZID=America/Los_Angeles:20260726T130000
DTEND;TZID=America/Los_Angeles:20260726T170000
DTSTAMP:20260423T043901
CREATED:20260331T203845Z
LAST-MODIFIED:20260409T202916Z
UID:10000728-1785070800-1785085200@theartscenter.net
SUMMARY:Handbuilt Ceramics Plates with Character
DESCRIPTION:Create playful 3D character plates in this hands-on\, two-day ceramics workshop with artist Erika Rier. Learn pinch and slab techniques\, attachment methods\, and underglaze decoration to bring your clay creations to life. All materials provided. \n\n\n\n\n\n\n\n\n\n\nHandbuilt Ceramics Plates with Character
URL:https://theartscenter.net/event/handbuilt-ceramics-plates-with-character/2026-07-26/
LOCATION:The Arts Center – Ceramics Studio\, 700 SW Madison\, Corvallis\, Oregon\, 97330\, United States
ATTACH;FMTTYPE=image/jpeg:https://theartscenter.net/wp-content/uploads/2026/03/Class-Image_Erika-Rier_2026-scaled.jpg
END:VEVENT
BEGIN:VEVENT
DTSTART;TZID=America/Los_Angeles:20260727T090000
DTEND;TZID=America/Los_Angeles:20260727T120000
DTSTAMP:20260423T043901
CREATED:20260309T231028Z
LAST-MODIFIED:20260409T202949Z
UID:10000660-1785142800-1785153600@theartscenter.net
SUMMARY:Ceramics (Ages 8-11)
DESCRIPTION:Hands-on clay class exploring sculpting and ceramic techniques to create functional\, decorative\, and imaginative pieces. Glaze Day – August 3rd 9:00 AM – 12:00 PM \n\n\n\n\n\n\n\n\n\n\nhttps://theartscenter.net/arts-adventures-summer
URL:https://theartscenter.net/event/ceramics-ages-8-11/2026-07-27/
LOCATION:The Arts Center – Ceramics Studio\, 700 SW Madison\, Corvallis\, Oregon\, 97330\, United States
ATTACH;FMTTYPE=image/png:https://theartscenter.net/wp-content/uploads/2026/03/Website-Hero_1920x1080_Summer-Adventures-1-scaled.png
END:VEVENT
BEGIN:VEVENT
DTSTART;TZID=America/Los_Angeles:20260727T140000
DTEND;TZID=America/Los_Angeles:20260727T170000
DTSTAMP:20260423T043901
CREATED:20260309T231521Z
LAST-MODIFIED:20260409T203228Z
UID:10000672-1785160800-1785171600@theartscenter.net
SUMMARY:Watercolor & Ink (Ages 9-12)
DESCRIPTION:Explore the magic of ink and watercolor while learning line work\, color mixing\, and expressive painting techniques. \n\n\n\n\n\n\n\n\n\n\nhttps://theartscenter.net/arts-adventures-summer
URL:https://theartscenter.net/event/watercolor-ink-ages-9-12/2026-07-27/
LOCATION:Corvallis Museum\, 411 SW 2nd St\, Corvallis\, OR\, 97333\, United States
ATTACH;FMTTYPE=image/png:https://theartscenter.net/wp-content/uploads/2026/03/Website-Hero_1920x1080_Summer-Adventures-1-scaled.png
END:VEVENT
BEGIN:VEVENT
DTSTART;TZID=America/Los_Angeles:20260727T140000
DTEND;TZID=America/Los_Angeles:20260727T170000
DTSTAMP:20260423T043901
CREATED:20260309T232824Z
LAST-MODIFIED:20260409T203204Z
UID:10000704-1785160800-1785171600@theartscenter.net
SUMMARY:Ceramics (Ages 12-15)
DESCRIPTION:Explore the creative potential of clay while learning foundational ceramic techniques to make functional\, decorative\, and sculptural pieces. Glaze Day: August 4\, 2:00 – 5:00 PM \n\n\n\n\n\n\n\n\n\n\nhttps://theartscenter.net/arts-adventures-summer
URL:https://theartscenter.net/event/ceramics-ages-12-15/2026-07-27/
LOCATION:The Arts Center – Ceramics Studio\, 700 SW Madison\, Corvallis\, Oregon\, 97330\, United States
ATTACH;FMTTYPE=image/png:https://theartscenter.net/wp-content/uploads/2026/03/Website-Hero_1920x1080_Summer-Adventures-1-scaled.png
END:VEVENT
BEGIN:VEVENT
DTSTART;TZID=America/Los_Angeles:20260728T090000
DTEND;TZID=America/Los_Angeles:20260728T120000
DTSTAMP:20260423T043901
CREATED:20260309T231028Z
LAST-MODIFIED:20260409T202949Z
UID:10000661-1785229200-1785240000@theartscenter.net
SUMMARY:Ceramics (Ages 8-11)
DESCRIPTION:Hands-on clay class exploring sculpting and ceramic techniques to create functional\, decorative\, and imaginative pieces. Glaze Day – August 3rd 9:00 AM – 12:00 PM \n\n\n\n\n\n\n\n\n\n\nhttps://theartscenter.net/arts-adventures-summer
URL:https://theartscenter.net/event/ceramics-ages-8-11/2026-07-28/
LOCATION:The Arts Center – Ceramics Studio\, 700 SW Madison\, Corvallis\, Oregon\, 97330\, United States
ATTACH;FMTTYPE=image/png:https://theartscenter.net/wp-content/uploads/2026/03/Website-Hero_1920x1080_Summer-Adventures-1-scaled.png
END:VEVENT
BEGIN:VEVENT
DTSTART;TZID=America/Los_Angeles:20260728T140000
DTEND;TZID=America/Los_Angeles:20260728T170000
DTSTAMP:20260423T043901
CREATED:20260309T231521Z
LAST-MODIFIED:20260409T203228Z
UID:10000673-1785247200-1785258000@theartscenter.net
SUMMARY:Watercolor & Ink (Ages 9-12)
DESCRIPTION:Explore the magic of ink and watercolor while learning line work\, color mixing\, and expressive painting techniques. \n\n\n\n\n\n\n\n\n\n\nhttps://theartscenter.net/arts-adventures-summer
URL:https://theartscenter.net/event/watercolor-ink-ages-9-12/2026-07-28/
LOCATION:Corvallis Museum\, 411 SW 2nd St\, Corvallis\, OR\, 97333\, United States
ATTACH;FMTTYPE=image/png:https://theartscenter.net/wp-content/uploads/2026/03/Website-Hero_1920x1080_Summer-Adventures-1-scaled.png
END:VEVENT
BEGIN:VEVENT
DTSTART;TZID=America/Los_Angeles:20260728T140000
DTEND;TZID=America/Los_Angeles:20260728T170000
DTSTAMP:20260423T043901
CREATED:20260309T232824Z
LAST-MODIFIED:20260409T203204Z
UID:10000705-1785247200-1785258000@theartscenter.net
SUMMARY:Ceramics (Ages 12-15)
DESCRIPTION:Explore the creative potential of clay while learning foundational ceramic techniques to make functional\, decorative\, and sculptural pieces. Glaze Day: August 4\, 2:00 – 5:00 PM \n\n\n\n\n\n\n\n\n\n\nhttps://theartscenter.net/arts-adventures-summer
URL:https://theartscenter.net/event/ceramics-ages-12-15/2026-07-28/
LOCATION:The Arts Center – Ceramics Studio\, 700 SW Madison\, Corvallis\, Oregon\, 97330\, United States
ATTACH;FMTTYPE=image/png:https://theartscenter.net/wp-content/uploads/2026/03/Website-Hero_1920x1080_Summer-Adventures-1-scaled.png
END:VEVENT
BEGIN:VEVENT
DTSTART;TZID=America/Los_Angeles:20260728T180000
DTEND;TZID=America/Los_Angeles:20260728T200000
DTSTAMP:20260423T043901
CREATED:20260331T211512Z
LAST-MODIFIED:20260409T203320Z
UID:10000729-1785261600-1785268800@theartscenter.net
SUMMARY:Drawing & Perception
DESCRIPTION:Build your drawing skills by learning to see more deeply in this class with instructor Leah Wilson. Meeting Tuesdays and Thursdays\, July 28–August 13\, you’ll explore observational exercises like blind contour\, gesture\, and sustained studies to develop confident mark-making\, expressive line quality\, and a stronger understanding of space and perspective using charcoal. \n\n\n\n\n\n\n\n\n\n\nDrawing & Perception
URL:https://theartscenter.net/event/drawing-perception/2026-07-28/
LOCATION:Tunison Community Room\, 2270 SW Butterfield Dr\, Corvallis\, Oregon\, 97333
ATTACH;FMTTYPE=image/png:https://theartscenter.net/wp-content/uploads/2026/03/Apr-Sept-Classes-Event-Images-169-2.png
END:VEVENT
BEGIN:VEVENT
DTSTART;TZID=America/Los_Angeles:20260729T090000
DTEND;TZID=America/Los_Angeles:20260729T120000
DTSTAMP:20260423T043901
CREATED:20260309T231028Z
LAST-MODIFIED:20260409T202949Z
UID:10000662-1785315600-1785326400@theartscenter.net
SUMMARY:Ceramics (Ages 8-11)
DESCRIPTION:Hands-on clay class exploring sculpting and ceramic techniques to create functional\, decorative\, and imaginative pieces. Glaze Day – August 3rd 9:00 AM – 12:00 PM \n\n\n\n\n\n\n\n\n\n\nhttps://theartscenter.net/arts-adventures-summer
URL:https://theartscenter.net/event/ceramics-ages-8-11/2026-07-29/
LOCATION:The Arts Center – Ceramics Studio\, 700 SW Madison\, Corvallis\, Oregon\, 97330\, United States
ATTACH;FMTTYPE=image/png:https://theartscenter.net/wp-content/uploads/2026/03/Website-Hero_1920x1080_Summer-Adventures-1-scaled.png
END:VEVENT
BEGIN:VEVENT
DTSTART;TZID=America/Los_Angeles:20260729T140000
DTEND;TZID=America/Los_Angeles:20260729T170000
DTSTAMP:20260423T043901
CREATED:20260309T231521Z
LAST-MODIFIED:20260409T203228Z
UID:10000674-1785333600-1785344400@theartscenter.net
SUMMARY:Watercolor & Ink (Ages 9-12)
DESCRIPTION:Explore the magic of ink and watercolor while learning line work\, color mixing\, and expressive painting techniques. \n\n\n\n\n\n\n\n\n\n\nhttps://theartscenter.net/arts-adventures-summer
URL:https://theartscenter.net/event/watercolor-ink-ages-9-12/2026-07-29/
LOCATION:Corvallis Museum\, 411 SW 2nd St\, Corvallis\, OR\, 97333\, United States
ATTACH;FMTTYPE=image/png:https://theartscenter.net/wp-content/uploads/2026/03/Website-Hero_1920x1080_Summer-Adventures-1-scaled.png
END:VEVENT
BEGIN:VEVENT
DTSTART;TZID=America/Los_Angeles:20260729T140000
DTEND;TZID=America/Los_Angeles:20260729T170000
DTSTAMP:20260423T043901
CREATED:20260309T232824Z
LAST-MODIFIED:20260409T203204Z
UID:10000706-1785333600-1785344400@theartscenter.net
SUMMARY:Ceramics (Ages 12-15)
DESCRIPTION:Explore the creative potential of clay while learning foundational ceramic techniques to make functional\, decorative\, and sculptural pieces. Glaze Day: August 4\, 2:00 – 5:00 PM \n\n\n\n\n\n\n\n\n\n\nhttps://theartscenter.net/arts-adventures-summer
URL:https://theartscenter.net/event/ceramics-ages-12-15/2026-07-29/
LOCATION:The Arts Center – Ceramics Studio\, 700 SW Madison\, Corvallis\, Oregon\, 97330\, United States
ATTACH;FMTTYPE=image/png:https://theartscenter.net/wp-content/uploads/2026/03/Website-Hero_1920x1080_Summer-Adventures-1-scaled.png
END:VEVENT
BEGIN:VEVENT
DTSTART;TZID=America/Los_Angeles:20260730T090000
DTEND;TZID=America/Los_Angeles:20260730T120000
DTSTAMP:20260423T043902
CREATED:20260309T231028Z
LAST-MODIFIED:20260409T202949Z
UID:10000663-1785402000-1785412800@theartscenter.net
SUMMARY:Ceramics (Ages 8-11)
DESCRIPTION:Hands-on clay class exploring sculpting and ceramic techniques to create functional\, decorative\, and imaginative pieces. Glaze Day – August 3rd 9:00 AM – 12:00 PM \n\n\n\n\n\n\n\n\n\n\nhttps://theartscenter.net/arts-adventures-summer
URL:https://theartscenter.net/event/ceramics-ages-8-11/2026-07-30/
LOCATION:The Arts Center – Ceramics Studio\, 700 SW Madison\, Corvallis\, Oregon\, 97330\, United States
ATTACH;FMTTYPE=image/png:https://theartscenter.net/wp-content/uploads/2026/03/Website-Hero_1920x1080_Summer-Adventures-1-scaled.png
END:VEVENT
BEGIN:VEVENT
DTSTART;TZID=America/Los_Angeles:20260730T140000
DTEND;TZID=America/Los_Angeles:20260730T170000
DTSTAMP:20260423T043902
CREATED:20260309T231521Z
LAST-MODIFIED:20260409T203228Z
UID:10000675-1785420000-1785430800@theartscenter.net
SUMMARY:Watercolor & Ink (Ages 9-12)
DESCRIPTION:Explore the magic of ink and watercolor while learning line work\, color mixing\, and expressive painting techniques. \n\n\n\n\n\n\n\n\n\n\nhttps://theartscenter.net/arts-adventures-summer
URL:https://theartscenter.net/event/watercolor-ink-ages-9-12/2026-07-30/
LOCATION:Corvallis Museum\, 411 SW 2nd St\, Corvallis\, OR\, 97333\, United States
ATTACH;FMTTYPE=image/png:https://theartscenter.net/wp-content/uploads/2026/03/Website-Hero_1920x1080_Summer-Adventures-1-scaled.png
END:VEVENT
END:VCALENDAR