BEGIN:VCALENDAR
VERSION:2.0
PRODID:-//The Arts Center - ECPv6.15.12.2//NONSGML v1.0//EN
CALSCALE:GREGORIAN
METHOD:PUBLISH
X-ORIGINAL-URL:https://theartscenter.net
X-WR-CALDESC:Events for The Arts Center
REFRESH-INTERVAL;VALUE=DURATION:PT1H
X-Robots-Tag:noindex
X-PUBLISHED-TTL:PT1H
BEGIN:VTIMEZONE
TZID:America/Los_Angeles
BEGIN:DAYLIGHT
TZOFFSETFROM:-0800
TZOFFSETTO:-0700
TZNAME:PDT
DTSTART:20250309T100000
END:DAYLIGHT
BEGIN:STANDARD
TZOFFSETFROM:-0700
TZOFFSETTO:-0800
TZNAME:PST
DTSTART:20251102T090000
END:STANDARD
BEGIN:DAYLIGHT
TZOFFSETFROM:-0800
TZOFFSETTO:-0700
TZNAME:PDT
DTSTART:20260308T100000
END:DAYLIGHT
BEGIN:STANDARD
TZOFFSETFROM:-0700
TZOFFSETTO:-0800
TZNAME:PST
DTSTART:20261101T090000
END:STANDARD
BEGIN:DAYLIGHT
TZOFFSETFROM:-0800
TZOFFSETTO:-0700
TZNAME:PDT
DTSTART:20270314T100000
END:DAYLIGHT
BEGIN:STANDARD
TZOFFSETFROM:-0700
TZOFFSETTO:-0800
TZNAME:PST
DTSTART:20271107T090000
END:STANDARD
END:VTIMEZONE
BEGIN:VTIMEZONE
TZID:UTC
BEGIN:STANDARD
TZOFFSETFROM:+0000
TZOFFSETTO:+0000
TZNAME:UTC
DTSTART:20250101T000000
END:STANDARD
END:VTIMEZONE
BEGIN:VEVENT
DTSTART;TZID=America/Los_Angeles:20260207T130000
DTEND;TZID=America/Los_Angeles:20260207T140000
DTSTAMP:20260424T033719
CREATED:20260128T232735Z
LAST-MODIFIED:20260128T232736Z
UID:10000620-1770469200-1770472800@theartscenter.net
SUMMARY:Unlocking Art
DESCRIPTION:Unlocking Art is a new free community engagement program at The Arts Center that invites you to experience exhibitions in fresh and meaningful ways. Spark fresh ways of seeing and connecting with the Ruth and Jim Howland Community Open through volunteer lead interactive activities in TAC’s main gallery. \n\n\n\n\n\n\n\n\n\n\nUnlocking Art
URL:https://theartscenter.net/event/unlocking-art/
LOCATION:The Arts Center – Main Gallery\, 700 SW Madison\, Corvallis\, Oregon\, 97333\, United States
END:VEVENT
BEGIN:VEVENT
DTSTART;TZID=UTC:20260210T180000
DTEND;TZID=UTC:20260210T200000
DTSTAMP:20260424T033719
CREATED:20251107T190857Z
LAST-MODIFIED:20251107T190858Z
UID:10000595-1770746400-1770753600@theartscenter.net
SUMMARY:Figure Drawing Session
DESCRIPTION:Refine your drawing skills in our figure drawing sessions with a nude model—open to artists 18+. No instruction\, just focused time to create.
URL:https://theartscenter.net/event/figure-drawing-session-11/
LOCATION:Corvallis Museum\, 411 SW 2nd St\, Corvallis\, OR\, 97333\, United States
END:VEVENT
BEGIN:VEVENT
DTSTART;TZID=America/Los_Angeles:20260214T130000
DTEND;TZID=America/Los_Angeles:20260214T160000
DTSTAMP:20260424T033719
CREATED:20260114T223329Z
LAST-MODIFIED:20260120T220941Z
UID:10000609-1771074000-1771084800@theartscenter.net
SUMMARY:2nd Saturdays at TAC
DESCRIPTION:This February\, we’re spreading color and kindness with free art kits featuring two uplifting projects: a butterfly origami and a felted heart craft. \n\n\n\nPick up your kit February 3 -14 during open hours\, Tuesday – Saturday\, 12:00 – 5:00 PM. \n\n\n\n\n\n\n\n\n\n\n2nd Saturdays at TAC
URL:https://theartscenter.net/event/2nd-saturdays-at-tac-11/
LOCATION:The Arts Center – Main Gallery\, 700 SW Madison\, Corvallis\, Oregon\, 97333\, United States
END:VEVENT
BEGIN:VEVENT
DTSTART;TZID=America/Los_Angeles:20260216T160000
DTEND;TZID=America/Los_Angeles:20260216T180000
DTSTAMP:20260424T033719
CREATED:20260105T194849Z
LAST-MODIFIED:20260105T194850Z
UID:10000603-1771257600-1771264800@theartscenter.net
SUMMARY:Figure Drawing for Teens
DESCRIPTION:Build confidence and sharpen your skills in this 4-day hands-on figure drawing class for ages 13–17. Learn foundational principles of working from a live model\, explore charcoal techniques\, and strengthen your observational drawing in a supportive studio environment. All materials provided; registration required. \n\n\n\n\n\n\n\n\n\n\nhttps://theartscenter.net/teen-figure-drawing/
URL:https://theartscenter.net/event/figure-drawing-for-teens/
LOCATION:The Arts Center – Downstairs Classroom\, 700 Sw Madison Ave\, Corvallis\, Oregon\, 97333
END:VEVENT
BEGIN:VEVENT
DTSTART;TZID=America/Los_Angeles:20260217T160000
DTEND;TZID=America/Los_Angeles:20260217T180000
DTSTAMP:20260424T033719
CREATED:20260105T194955Z
LAST-MODIFIED:20260105T194956Z
UID:10000604-1771344000-1771351200@theartscenter.net
SUMMARY:Figure Drawing for Teens
DESCRIPTION:Build confidence and sharpen your skills in this 4-day hands-on figure drawing class for ages 13–17. Learn foundational principles of working from a live model\, explore charcoal techniques\, and strengthen your observational drawing in a supportive studio environment. All materials provided; registration required. \n\n\n\n\n\n\n\n\n\n\nhttps://theartscenter.net/teen-figure-drawing/
URL:https://theartscenter.net/event/figure-drawing-for-teens-2/
LOCATION:The Arts Center – Downstairs Classroom\, 700 Sw Madison Ave\, Corvallis\, Oregon\, 97333
END:VEVENT
BEGIN:VEVENT
DTSTART;TZID=America/Los_Angeles:20260218T160000
DTEND;TZID=America/Los_Angeles:20260218T180000
DTSTAMP:20260424T033719
CREATED:20260105T195011Z
LAST-MODIFIED:20260105T195013Z
UID:10000605-1771430400-1771437600@theartscenter.net
SUMMARY:Figure Drawing for Teens
DESCRIPTION:Build confidence and sharpen your skills in this 4-day hands-on figure drawing class for ages 13–17. Learn foundational principles of working from a live model\, explore charcoal techniques\, and strengthen your observational drawing in a supportive studio environment. All materials provided; registration required. \n\n\n\n\n\n\n\n\n\n\nhttps://theartscenter.net/teen-figure-drawing/
URL:https://theartscenter.net/event/figure-drawing-for-teens-3/
LOCATION:The Arts Center – Downstairs Classroom\, 700 Sw Madison Ave\, Corvallis\, Oregon\, 97333
END:VEVENT
BEGIN:VEVENT
DTSTART;TZID=America/Los_Angeles:20260219T160000
DTEND;TZID=America/Los_Angeles:20260219T180000
DTSTAMP:20260424T033719
CREATED:20260105T195027Z
LAST-MODIFIED:20260105T195028Z
UID:10000606-1771516800-1771524000@theartscenter.net
SUMMARY:Figure Drawing for Teens
DESCRIPTION:Build confidence and sharpen your skills in this 4-day hands-on figure drawing class for ages 13–17. Learn foundational principles of working from a live model\, explore charcoal techniques\, and strengthen your observational drawing in a supportive studio environment. All materials provided; registration required. \n\n\n\n\n\n\n\n\n\n\nhttps://theartscenter.net/teen-figure-drawing/
URL:https://theartscenter.net/event/figure-drawing-for-teens-4/
LOCATION:The Arts Center – Downstairs Classroom\, 700 Sw Madison Ave\, Corvallis\, Oregon\, 97333
END:VEVENT
BEGIN:VEVENT
DTSTART;TZID=UTC:20260219T160000
DTEND;TZID=UTC:20260219T190000
DTSTAMP:20260424T033719
CREATED:20250306T191850Z
LAST-MODIFIED:20260409T200537Z
UID:10000073-1771516800-1771527600@theartscenter.net
SUMMARY:CAW
DESCRIPTION:The Corvallis Arts Walk (CAW) is a monthly event held by local artists every third Thursday of each month. View the stunning visual artwork at venues around town and experience the creative spirit of Corvallis. The Arts Center Main Gallery and Corrine Woodman Gallery are open every Thursday from 4-7pm for CAW. \nVisit Corvallis Arts Walk for up-to-date listings of all the participating venues.
URL:https://theartscenter.net/event/caw/2026-02-19/
LOCATION:The Arts Center\, 700 SW Madison Ave\, Corvallis\, OR\, 97330\, United States
ATTACH;FMTTYPE=image/png:https://theartscenter.net/wp-content/uploads/2025/03/Screen-Shot-2023-05-17-at-8.03.09-AM.png
END:VEVENT
BEGIN:VEVENT
DTSTART;TZID=America/Los_Angeles:20260219T173000
DTEND;TZID=America/Los_Angeles:20260219T190000
DTSTAMP:20260424T033719
CREATED:20260128T235244Z
LAST-MODIFIED:20260128T235245Z
UID:10000624-1771522200-1771527600@theartscenter.net
SUMMARY:Serendipity - Reception and Artist Talk
DESCRIPTION:Join us during CAW for a reception and artist talk with Avery McDowell. \n\n\n\nExhibition on view through February 28\, 2026. \n\n\n\n\n\n\n\n\n\n\nSerendipity – Avery McDowell
URL:https://theartscenter.net/event/serendipity-reception-and-artist-talk/
LOCATION:The Arts Center\, 700 SW Madison Ave\, Corvallis\, OR\, 97330\, United States
END:VEVENT
BEGIN:VEVENT
DTSTART;TZID=America/Los_Angeles:20260224T130000
DTEND;TZID=America/Los_Angeles:20260224T140000
DTSTAMP:20260424T033719
CREATED:20260128T232841Z
LAST-MODIFIED:20260128T232842Z
UID:10000621-1771938000-1771941600@theartscenter.net
SUMMARY:Unlocking Art
DESCRIPTION:Unlocking Art is a new free community engagement program at The Arts Center that invites you to experience exhibitions in fresh and meaningful ways. Spark fresh ways of seeing and connecting with the Ruth and Jim Howland Community Open through volunteer lead interactive activities in TAC’s main gallery. \n\n\n\n\n\n\n\n\n\n\nUnlocking Art
URL:https://theartscenter.net/event/unlocking-art-2/
LOCATION:The Arts Center – Main Gallery\, 700 SW Madison\, Corvallis\, Oregon\, 97333\, United States
END:VEVENT
BEGIN:VEVENT
DTSTART;TZID=America/Los_Angeles:20260225T173000
DTEND;TZID=America/Los_Angeles:20260225T190000
DTSTAMP:20260424T033719
CREATED:20251219T183925Z
LAST-MODIFIED:20251219T183926Z
UID:10000599-1772040600-1772046000@theartscenter.net
SUMMARY:Gallery Artist Basics
DESCRIPTION:Join abstract artist Robin Kerr as she demystifies the behind-the-scenes work of a successful gallery artist. This lecture is perfect for visual artists of varying skill levels. \n\n\n\n\n\n\n\n\nhttps://theartscenter.net/gallery-artist-basics/
URL:https://theartscenter.net/event/gallery-artist-basics/
LOCATION:Corvallis Community Center\, 2601 NW Tyler\, Corvallis\, Oregon\, 97330
END:VEVENT
BEGIN:VEVENT
DTSTART;TZID=America/Los_Angeles:20260228T130000
DTEND;TZID=America/Los_Angeles:20260228T140000
DTSTAMP:20260424T033719
CREATED:20260128T233402Z
LAST-MODIFIED:20260128T233404Z
UID:10000622-1772283600-1772287200@theartscenter.net
SUMMARY:Howland Open Reception
DESCRIPTION:Celebrate the Howland Community Open. Cookies and drinks will be served as we announce the People’s Choice Awards and the TAC Exhibition Committee Cherry Picks. \n\n\n\n\n\n\n\n\n\n\nHowland Community Open
URL:https://theartscenter.net/event/howland-open-reception/
LOCATION:The Arts Center – Main Gallery\, 700 SW Madison\, Corvallis\, Oregon\, 97333\, United States
END:VEVENT
BEGIN:VEVENT
DTSTART;TZID=America/Los_Angeles:20260303T120000
DTEND;TZID=America/Los_Angeles:20260303T170000
DTSTAMP:20260424T033719
CREATED:20260205T180855Z
LAST-MODIFIED:20260205T181011Z
UID:10000639-1772539200-1772557200@theartscenter.net
SUMMARY:Paintings from the Suburbs - Exhibition Opening
DESCRIPTION:Paintings from the Suburbs by Ron Walker opens to the public on Tuesday\, March 3\, 2026 in the Corrine Woodman Gallery. On view through March 28\, 2026. \n\n\n\nReception: Thursday\, March 19\, 5:30 – 7:00 PM \n\n\n\n\n\n\n\n\n\n\nRon Walker – Paintings from the Suburbs
URL:https://theartscenter.net/event/paintings-from-the-suburbs-exhibition-opening/
LOCATION:The Arts Center\, 700 SW Madison Ave\, Corvallis\, OR\, 97330\, United States
END:VEVENT
BEGIN:VEVENT
DTSTART;TZID=UTC:20260305T173000
DTEND;TZID=UTC:20260305T190000
DTSTAMP:20260424T033719
CREATED:20250228T053838Z
LAST-MODIFIED:20260409T201011Z
UID:10000013-1772731800-1772737200@theartscenter.net
SUMMARY:Artist Meetups at TAC
DESCRIPTION:Join fellow creatives on First Thursdays! \nArtist Meetups are a welcoming space for creatives of all disciplines and experience levels to share work\, receive constructive feedback\, and discuss creative-world hot topics. We invite artists from all backgrounds\, including hobbyists\, emerging\, and established creatives\, with special encouragement for those from historically excluded communities\, to connect\, share\, and grow together. \n  \n 
URL:https://theartscenter.net/event/artist-meetup/2026-03-05/
LOCATION:The Arts Center\, 700 SW Madison Ave\, Corvallis\, OR\, 97330\, United States
ATTACH;FMTTYPE=image/png:https://theartscenter.net/wp-content/uploads/2024/12/OpenStudios.png
END:VEVENT
BEGIN:VEVENT
DTSTART;TZID=America/Los_Angeles:20260310T173000
DTEND;TZID=America/Los_Angeles:20260310T190000
DTSTAMP:20260424T033719
CREATED:20260113T215208Z
LAST-MODIFIED:20260113T215211Z
UID:10000608-1773163800-1773169200@theartscenter.net
SUMMARY:TAC Makes @ C3
DESCRIPTION:
URL:https://theartscenter.net/event/tac-makes-c3-3/
LOCATION:Corvallis Community Center\, 2601 NW Tyler\, Corvallis\, Oregon\, 97330
END:VEVENT
BEGIN:VEVENT
DTSTART;TZID=UTC:20260310T180000
DTEND;TZID=UTC:20260310T200000
DTSTAMP:20260424T033719
CREATED:20251107T190931Z
LAST-MODIFIED:20260105T194024Z
UID:10000596-1773165600-1773172800@theartscenter.net
SUMMARY:Figure Drawing Session
DESCRIPTION:Refine your drawing skills in our figure drawing sessions with a nude model—open to artists 18+. No instruction\, just focused time to create.
URL:https://theartscenter.net/event/figure-drawing-session-12/
LOCATION:The Arts Center – Main Gallery\, 700 SW Madison\, Corvallis\, Oregon\, 97333\, United States
END:VEVENT
BEGIN:VEVENT
DTSTART;TZID=America/Los_Angeles:20260314T130000
DTEND;TZID=America/Los_Angeles:20260314T160000
DTSTAMP:20260424T033719
CREATED:20260114T223433Z
LAST-MODIFIED:20260114T223434Z
UID:10000610-1773493200-1773504000@theartscenter.net
SUMMARY:2nd Saturdays at TAC
DESCRIPTION:On the 2nd Saturday of each month\, TAC hosts a FREE\, drop-in afternoon of art making in our Main Gallery\, 1- 4 PM. All supplies are provided and all ages & experience levels are welcome!  \n\n\n\n\n\n\n\n\n\n\n2nd Saturdays at TAC
URL:https://theartscenter.net/event/2nd-saturdays-at-tac-12/
LOCATION:The Arts Center – Main Gallery\, 700 SW Madison\, Corvallis\, Oregon\, 97333\, United States
END:VEVENT
BEGIN:VEVENT
DTSTART;TZID=America/Los_Angeles:20260319T120000
DTEND;TZID=America/Los_Angeles:20260319T170000
DTSTAMP:20260424T033719
CREATED:20260203T235714Z
LAST-MODIFIED:20260203T235715Z
UID:10000625-1773921600-1773939600@theartscenter.net
SUMMARY:Reformation - Exhibition Opening
DESCRIPTION:Reformation by Kim Smith Claudel opens to the public on Thursday\, March 19\, 2026 in the Main Gallery. On view through May 9\, 2026. \n\n\n\nReception: Thursday\, March 19\, 2026\, 5:30 – 7:00 PM \n\n\n\n\n\n\n\n\n\n\nReformation – Kim Smith Claudel
URL:https://theartscenter.net/event/reformation-exhibition-opening/
LOCATION:The Arts Center\, 700 SW Madison Ave\, Corvallis\, OR\, 97330\, United States
END:VEVENT
BEGIN:VEVENT
DTSTART;TZID=UTC:20260319T160000
DTEND;TZID=UTC:20260319T190000
DTSTAMP:20260424T033719
CREATED:20250306T191850Z
LAST-MODIFIED:20260409T200537Z
UID:10000074-1773936000-1773946800@theartscenter.net
SUMMARY:CAW
DESCRIPTION:The Corvallis Arts Walk (CAW) is a monthly event held by local artists every third Thursday of each month. View the stunning visual artwork at venues around town and experience the creative spirit of Corvallis. The Arts Center Main Gallery and Corrine Woodman Gallery are open every Thursday from 4-7pm for CAW. \nVisit Corvallis Arts Walk for up-to-date listings of all the participating venues.
URL:https://theartscenter.net/event/caw/2026-03-19/
LOCATION:The Arts Center\, 700 SW Madison Ave\, Corvallis\, OR\, 97330\, United States
ATTACH;FMTTYPE=image/png:https://theartscenter.net/wp-content/uploads/2025/03/Screen-Shot-2023-05-17-at-8.03.09-AM.png
END:VEVENT
BEGIN:VEVENT
DTSTART;TZID=America/Los_Angeles:20260323T090000
DTEND;TZID=America/Los_Angeles:20260323T120000
DTSTAMP:20260424T033719
CREATED:20260204T000724Z
LAST-MODIFIED:20260204T000725Z
UID:10000626-1774256400-1774267200@theartscenter.net
SUMMARY:Clay Adventures (Ages 8-11)
DESCRIPTION:Explore the creative potential of clay in this hands-on class with local potter and educator Annelie Haberman\, learning foundational ceramic techniques while bringing your own ideas to life. \n\n\n\n\n\n\n\n\n\n\nhttps://theartscenter.net/arts-adventures-spring/
URL:https://theartscenter.net/event/clay-adventures-ages-8-11/2026-03-23/
LOCATION:The Arts Center – Ceramics Studio\, 700 SW Madison\, Corvallis\, Oregon\, 97330\, United States
END:VEVENT
BEGIN:VEVENT
DTSTART;TZID=America/Los_Angeles:20260323T090000
DTEND;TZID=America/Los_Angeles:20260323T120000
DTSTAMP:20260424T033719
CREATED:20260204T001313Z
LAST-MODIFIED:20260204T001535Z
UID:10000634-1774256400-1774267200@theartscenter.net
SUMMARY:Watercolor Adventures (Ages 11-14)
DESCRIPTION:Build confidence and creativity through watercolor painting and reflection with instructor Morgan Federwitz. \n\n\n\n\n\n\n\n\n\n\nhttps://theartscenter.net/arts-adventures-spring/
URL:https://theartscenter.net/event/watercolor-adventures/2026-03-23/
LOCATION:Corvallis Museum\, 411 SW 2nd St\, Corvallis\, OR\, 97333\, United States
END:VEVENT
BEGIN:VEVENT
DTSTART;TZID=America/Los_Angeles:20260323T140000
DTEND;TZID=America/Los_Angeles:20260323T170000
DTSTAMP:20260424T033719
CREATED:20260204T000939Z
LAST-MODIFIED:20260204T000940Z
UID:10000630-1774274400-1774285200@theartscenter.net
SUMMARY:Clay Adventures (Ages 12-14)
DESCRIPTION:Explore the creative potential of clay in this hands-on class with local potter and educator Annelie Haberman\, learning foundational ceramic techniques while bringing your own ideas to life. \n\n\n\n\n\n\n\n\n\n\nhttps://theartscenter.net/arts-adventures-spring/
URL:https://theartscenter.net/event/clay-adventures-ages-12-14/2026-03-23/
LOCATION:The Arts Center – Ceramics Studio\, 700 SW Madison\, Corvallis\, Oregon\, 97330\, United States
END:VEVENT
BEGIN:VEVENT
DTSTART;TZID=America/Los_Angeles:20260324T090000
DTEND;TZID=America/Los_Angeles:20260324T120000
DTSTAMP:20260424T033719
CREATED:20260204T000724Z
LAST-MODIFIED:20260204T000725Z
UID:10000627-1774342800-1774353600@theartscenter.net
SUMMARY:Clay Adventures (Ages 8-11)
DESCRIPTION:Explore the creative potential of clay in this hands-on class with local potter and educator Annelie Haberman\, learning foundational ceramic techniques while bringing your own ideas to life. \n\n\n\n\n\n\n\n\n\n\nhttps://theartscenter.net/arts-adventures-spring/
URL:https://theartscenter.net/event/clay-adventures-ages-8-11/2026-03-24/
LOCATION:The Arts Center – Ceramics Studio\, 700 SW Madison\, Corvallis\, Oregon\, 97330\, United States
END:VEVENT
BEGIN:VEVENT
DTSTART;TZID=America/Los_Angeles:20260324T090000
DTEND;TZID=America/Los_Angeles:20260324T120000
DTSTAMP:20260424T033719
CREATED:20260204T001313Z
LAST-MODIFIED:20260204T001535Z
UID:10000635-1774342800-1774353600@theartscenter.net
SUMMARY:Watercolor Adventures (Ages 11-14)
DESCRIPTION:Build confidence and creativity through watercolor painting and reflection with instructor Morgan Federwitz. \n\n\n\n\n\n\n\n\n\n\nhttps://theartscenter.net/arts-adventures-spring/
URL:https://theartscenter.net/event/watercolor-adventures/2026-03-24/
LOCATION:Corvallis Museum\, 411 SW 2nd St\, Corvallis\, OR\, 97333\, United States
END:VEVENT
BEGIN:VEVENT
DTSTART;TZID=America/Los_Angeles:20260324T140000
DTEND;TZID=America/Los_Angeles:20260324T170000
DTSTAMP:20260424T033719
CREATED:20260204T000939Z
LAST-MODIFIED:20260204T000940Z
UID:10000631-1774360800-1774371600@theartscenter.net
SUMMARY:Clay Adventures (Ages 12-14)
DESCRIPTION:Explore the creative potential of clay in this hands-on class with local potter and educator Annelie Haberman\, learning foundational ceramic techniques while bringing your own ideas to life. \n\n\n\n\n\n\n\n\n\n\nhttps://theartscenter.net/arts-adventures-spring/
URL:https://theartscenter.net/event/clay-adventures-ages-12-14/2026-03-24/
LOCATION:The Arts Center – Ceramics Studio\, 700 SW Madison\, Corvallis\, Oregon\, 97330\, United States
END:VEVENT
BEGIN:VEVENT
DTSTART;TZID=America/Los_Angeles:20260325T090000
DTEND;TZID=America/Los_Angeles:20260325T120000
DTSTAMP:20260424T033719
CREATED:20260204T000724Z
LAST-MODIFIED:20260204T000725Z
UID:10000628-1774429200-1774440000@theartscenter.net
SUMMARY:Clay Adventures (Ages 8-11)
DESCRIPTION:Explore the creative potential of clay in this hands-on class with local potter and educator Annelie Haberman\, learning foundational ceramic techniques while bringing your own ideas to life. \n\n\n\n\n\n\n\n\n\n\nhttps://theartscenter.net/arts-adventures-spring/
URL:https://theartscenter.net/event/clay-adventures-ages-8-11/2026-03-25/
LOCATION:The Arts Center – Ceramics Studio\, 700 SW Madison\, Corvallis\, Oregon\, 97330\, United States
END:VEVENT
BEGIN:VEVENT
DTSTART;TZID=America/Los_Angeles:20260325T090000
DTEND;TZID=America/Los_Angeles:20260325T120000
DTSTAMP:20260424T033719
CREATED:20260204T001313Z
LAST-MODIFIED:20260204T001535Z
UID:10000636-1774429200-1774440000@theartscenter.net
SUMMARY:Watercolor Adventures (Ages 11-14)
DESCRIPTION:Build confidence and creativity through watercolor painting and reflection with instructor Morgan Federwitz. \n\n\n\n\n\n\n\n\n\n\nhttps://theartscenter.net/arts-adventures-spring/
URL:https://theartscenter.net/event/watercolor-adventures/2026-03-25/
LOCATION:Corvallis Museum\, 411 SW 2nd St\, Corvallis\, OR\, 97333\, United States
END:VEVENT
BEGIN:VEVENT
DTSTART;TZID=America/Los_Angeles:20260325T140000
DTEND;TZID=America/Los_Angeles:20260325T170000
DTSTAMP:20260424T033719
CREATED:20260204T000939Z
LAST-MODIFIED:20260204T000940Z
UID:10000632-1774447200-1774458000@theartscenter.net
SUMMARY:Clay Adventures (Ages 12-14)
DESCRIPTION:Explore the creative potential of clay in this hands-on class with local potter and educator Annelie Haberman\, learning foundational ceramic techniques while bringing your own ideas to life. \n\n\n\n\n\n\n\n\n\n\nhttps://theartscenter.net/arts-adventures-spring/
URL:https://theartscenter.net/event/clay-adventures-ages-12-14/2026-03-25/
LOCATION:The Arts Center – Ceramics Studio\, 700 SW Madison\, Corvallis\, Oregon\, 97330\, United States
END:VEVENT
BEGIN:VEVENT
DTSTART;TZID=America/Los_Angeles:20260326T090000
DTEND;TZID=America/Los_Angeles:20260326T120000
DTSTAMP:20260424T033719
CREATED:20260204T000724Z
LAST-MODIFIED:20260204T000725Z
UID:10000629-1774515600-1774526400@theartscenter.net
SUMMARY:Clay Adventures (Ages 8-11)
DESCRIPTION:Explore the creative potential of clay in this hands-on class with local potter and educator Annelie Haberman\, learning foundational ceramic techniques while bringing your own ideas to life. \n\n\n\n\n\n\n\n\n\n\nhttps://theartscenter.net/arts-adventures-spring/
URL:https://theartscenter.net/event/clay-adventures-ages-8-11/2026-03-26/
LOCATION:The Arts Center – Ceramics Studio\, 700 SW Madison\, Corvallis\, Oregon\, 97330\, United States
END:VEVENT
BEGIN:VEVENT
DTSTART;TZID=America/Los_Angeles:20260326T090000
DTEND;TZID=America/Los_Angeles:20260326T120000
DTSTAMP:20260424T033719
CREATED:20260204T001313Z
LAST-MODIFIED:20260204T001535Z
UID:10000637-1774515600-1774526400@theartscenter.net
SUMMARY:Watercolor Adventures (Ages 11-14)
DESCRIPTION:Build confidence and creativity through watercolor painting and reflection with instructor Morgan Federwitz. \n\n\n\n\n\n\n\n\n\n\nhttps://theartscenter.net/arts-adventures-spring/
URL:https://theartscenter.net/event/watercolor-adventures/2026-03-26/
LOCATION:Corvallis Museum\, 411 SW 2nd St\, Corvallis\, OR\, 97333\, United States
END:VEVENT
END:VCALENDAR