BEGIN:VCALENDAR
VERSION:2.0
PRODID:-//The Arts Center - ECPv6.15.12.2//NONSGML v1.0//EN
CALSCALE:GREGORIAN
METHOD:PUBLISH
X-ORIGINAL-URL:https://theartscenter.net
X-WR-CALDESC:Events for The Arts Center
REFRESH-INTERVAL;VALUE=DURATION:PT1H
X-Robots-Tag:noindex
X-PUBLISHED-TTL:PT1H
BEGIN:VTIMEZONE
TZID:America/Los_Angeles
BEGIN:DAYLIGHT
TZOFFSETFROM:-0800
TZOFFSETTO:-0700
TZNAME:PDT
DTSTART:20250309T100000
END:DAYLIGHT
BEGIN:STANDARD
TZOFFSETFROM:-0700
TZOFFSETTO:-0800
TZNAME:PST
DTSTART:20251102T090000
END:STANDARD
BEGIN:DAYLIGHT
TZOFFSETFROM:-0800
TZOFFSETTO:-0700
TZNAME:PDT
DTSTART:20260308T100000
END:DAYLIGHT
BEGIN:STANDARD
TZOFFSETFROM:-0700
TZOFFSETTO:-0800
TZNAME:PST
DTSTART:20261101T090000
END:STANDARD
BEGIN:DAYLIGHT
TZOFFSETFROM:-0800
TZOFFSETTO:-0700
TZNAME:PDT
DTSTART:20270314T100000
END:DAYLIGHT
BEGIN:STANDARD
TZOFFSETFROM:-0700
TZOFFSETTO:-0800
TZNAME:PST
DTSTART:20271107T090000
END:STANDARD
END:VTIMEZONE
BEGIN:VTIMEZONE
TZID:UTC
BEGIN:STANDARD
TZOFFSETFROM:+0000
TZOFFSETTO:+0000
TZNAME:UTC
DTSTART:20250101T000000
END:STANDARD
END:VTIMEZONE
BEGIN:VEVENT
DTSTART;TZID=America/Los_Angeles:20260806T090000
DTEND;TZID=America/Los_Angeles:20260806T120000
DTSTAMP:20260422T084529
CREATED:20260309T231735Z
LAST-MODIFIED:20260409T203403Z
UID:10000679-1786006800-1786017600@theartscenter.net
SUMMARY:Sewing Basic (Ages 9-12)
DESCRIPTION:Design and sew a personalized tote bag while learning basic hand sewing and creative fabric techniques. \n\n\n\n\n\n\n\n\n\n\nhttps://theartscenter.net/arts-adventures-summer
URL:https://theartscenter.net/event/sewing-basic-ages-9-12/2026-08-06/
LOCATION:Corvallis Museum\, 411 SW 2nd St\, Corvallis\, OR\, 97333\, United States
ATTACH;FMTTYPE=image/png:https://theartscenter.net/wp-content/uploads/2026/03/Website-Hero_1920x1080_Summer-Adventures-1-scaled.png
END:VEVENT
BEGIN:VEVENT
DTSTART;TZID=UTC:20260806T173000
DTEND;TZID=UTC:20260806T190000
DTSTAMP:20260422T084529
CREATED:20250228T053838Z
LAST-MODIFIED:20260409T201011Z
UID:10000018-1786037400-1786042800@theartscenter.net
SUMMARY:Artist Meetups at TAC
DESCRIPTION:Join fellow creatives on First Thursdays! \nArtist Meetups are a welcoming space for creatives of all disciplines and experience levels to share work\, receive constructive feedback\, and discuss creative-world hot topics. We invite artists from all backgrounds\, including hobbyists\, emerging\, and established creatives\, with special encouragement for those from historically excluded communities\, to connect\, share\, and grow together. \n  \n 
URL:https://theartscenter.net/event/artist-meetup/2026-08-06/
LOCATION:The Arts Center\, 700 SW Madison Ave\, Corvallis\, OR\, 97330\, United States
ATTACH;FMTTYPE=image/png:https://theartscenter.net/wp-content/uploads/2024/12/OpenStudios.png
END:VEVENT
BEGIN:VEVENT
DTSTART;TZID=America/Los_Angeles:20260806T180000
DTEND;TZID=America/Los_Angeles:20260806T200000
DTSTAMP:20260422T084529
CREATED:20260331T211512Z
LAST-MODIFIED:20260409T203320Z
UID:10000732-1786039200-1786046400@theartscenter.net
SUMMARY:Drawing & Perception
DESCRIPTION:Build your drawing skills by learning to see more deeply in this class with instructor Leah Wilson. Meeting Tuesdays and Thursdays\, July 28–August 13\, you’ll explore observational exercises like blind contour\, gesture\, and sustained studies to develop confident mark-making\, expressive line quality\, and a stronger understanding of space and perspective using charcoal. \n\n\n\n\n\n\n\n\n\n\nDrawing & Perception
URL:https://theartscenter.net/event/drawing-perception/2026-08-06/
LOCATION:Tunison Community Room\, 2270 SW Butterfield Dr\, Corvallis\, Oregon\, 97333
ATTACH;FMTTYPE=image/png:https://theartscenter.net/wp-content/uploads/2026/03/Apr-Sept-Classes-Event-Images-169-2.png
END:VEVENT
BEGIN:VEVENT
DTSTART;TZID=America/Los_Angeles:20260808T130000
DTEND;TZID=America/Los_Angeles:20260808T160000
DTSTAMP:20260422T084529
CREATED:20260114T223620Z
LAST-MODIFIED:20260409T203500Z
UID:10000615-1786194000-1786204800@theartscenter.net
SUMMARY:2nd Saturdays at TAC
DESCRIPTION:On the 2nd Saturday of each month\, TAC hosts a FREE\, drop-in afternoon of art making in our Main Gallery\, 1- 4 PM. All supplies are provided and all ages & experience levels are welcome!  \n\n\n\n\n\n\n\n\n\n\n2nd Saturdays at TAC
URL:https://theartscenter.net/event/2nd-saturdays-at-tac-17/
LOCATION:The Arts Center – Main Gallery\, 700 SW Madison\, Corvallis\, Oregon\, 97333\, United States
ATTACH;FMTTYPE=image/png:https://theartscenter.net/wp-content/uploads/2025/01/coral-reef-sample-pic.png
END:VEVENT
BEGIN:VEVENT
DTSTART;TZID=America/Los_Angeles:20260810T090000
DTEND;TZID=America/Los_Angeles:20260810T120000
DTSTAMP:20260422T084529
CREATED:20260309T232325Z
LAST-MODIFIED:20260409T203524Z
UID:10000692-1786352400-1786363200@theartscenter.net
SUMMARY:Photography (Ages 10-14)
DESCRIPTION:Explore creative photography through pinhole cameras\, cyanotypes\, and light painting while experimenting with light and image-making. \n\n\n\n\n\n\n\n\n\n\nhttps://theartscenter.net/arts-adventures-summer
URL:https://theartscenter.net/event/photography-ages-10-14/2026-08-10/
LOCATION:Corvallis Museum\, 411 SW 2nd St\, Corvallis\, OR\, 97333\, United States
ATTACH;FMTTYPE=image/png:https://theartscenter.net/wp-content/uploads/2026/03/Website-Hero_1920x1080_Summer-Adventures-1-scaled.png
END:VEVENT
BEGIN:VEVENT
DTSTART;TZID=America/Los_Angeles:20260810T140000
DTEND;TZID=America/Los_Angeles:20260810T170000
DTSTAMP:20260422T084529
CREATED:20260309T232447Z
LAST-MODIFIED:20260409T203549Z
UID:10000696-1786370400-1786381200@theartscenter.net
SUMMARY:Drawing Adventures (Ages 10-14)
DESCRIPTION:Build drawing skills in a fun\, supportive environment. \n\n\n\n\n\n\n\n\n\n\nhttps://theartscenter.net/arts-adventures-summer
URL:https://theartscenter.net/event/drawing-adventures-ages-10-14/2026-08-10/
LOCATION:Corvallis Museum\, 411 SW 2nd St\, Corvallis\, OR\, 97333\, United States
ATTACH;FMTTYPE=image/png:https://theartscenter.net/wp-content/uploads/2026/03/Website-Hero_1920x1080_Summer-Adventures-1-scaled.png
END:VEVENT
BEGIN:VEVENT
DTSTART;TZID=America/Los_Angeles:20260811T090000
DTEND;TZID=America/Los_Angeles:20260811T120000
DTSTAMP:20260422T084529
CREATED:20260309T232325Z
LAST-MODIFIED:20260409T203524Z
UID:10000693-1786438800-1786449600@theartscenter.net
SUMMARY:Photography (Ages 10-14)
DESCRIPTION:Explore creative photography through pinhole cameras\, cyanotypes\, and light painting while experimenting with light and image-making. \n\n\n\n\n\n\n\n\n\n\nhttps://theartscenter.net/arts-adventures-summer
URL:https://theartscenter.net/event/photography-ages-10-14/2026-08-11/
LOCATION:Corvallis Museum\, 411 SW 2nd St\, Corvallis\, OR\, 97333\, United States
ATTACH;FMTTYPE=image/png:https://theartscenter.net/wp-content/uploads/2026/03/Website-Hero_1920x1080_Summer-Adventures-1-scaled.png
END:VEVENT
BEGIN:VEVENT
DTSTART;TZID=America/Los_Angeles:20260811T140000
DTEND;TZID=America/Los_Angeles:20260811T170000
DTSTAMP:20260422T084529
CREATED:20260309T232447Z
LAST-MODIFIED:20260409T203549Z
UID:10000697-1786456800-1786467600@theartscenter.net
SUMMARY:Drawing Adventures (Ages 10-14)
DESCRIPTION:Build drawing skills in a fun\, supportive environment. \n\n\n\n\n\n\n\n\n\n\nhttps://theartscenter.net/arts-adventures-summer
URL:https://theartscenter.net/event/drawing-adventures-ages-10-14/2026-08-11/
LOCATION:Corvallis Museum\, 411 SW 2nd St\, Corvallis\, OR\, 97333\, United States
ATTACH;FMTTYPE=image/png:https://theartscenter.net/wp-content/uploads/2026/03/Website-Hero_1920x1080_Summer-Adventures-1-scaled.png
END:VEVENT
BEGIN:VEVENT
DTSTART;TZID=America/Los_Angeles:20260811T180000
DTEND;TZID=America/Los_Angeles:20260811T200000
DTSTAMP:20260422T084529
CREATED:20260331T211512Z
LAST-MODIFIED:20260409T203320Z
UID:10000733-1786471200-1786478400@theartscenter.net
SUMMARY:Drawing & Perception
DESCRIPTION:Build your drawing skills by learning to see more deeply in this class with instructor Leah Wilson. Meeting Tuesdays and Thursdays\, July 28–August 13\, you’ll explore observational exercises like blind contour\, gesture\, and sustained studies to develop confident mark-making\, expressive line quality\, and a stronger understanding of space and perspective using charcoal. \n\n\n\n\n\n\n\n\n\n\nDrawing & Perception
URL:https://theartscenter.net/event/drawing-perception/2026-08-11/
LOCATION:Tunison Community Room\, 2270 SW Butterfield Dr\, Corvallis\, Oregon\, 97333
ATTACH;FMTTYPE=image/png:https://theartscenter.net/wp-content/uploads/2026/03/Apr-Sept-Classes-Event-Images-169-2.png
END:VEVENT
BEGIN:VEVENT
DTSTART;TZID=America/Los_Angeles:20260812T090000
DTEND;TZID=America/Los_Angeles:20260812T120000
DTSTAMP:20260422T084529
CREATED:20260309T232325Z
LAST-MODIFIED:20260409T203524Z
UID:10000694-1786525200-1786536000@theartscenter.net
SUMMARY:Photography (Ages 10-14)
DESCRIPTION:Explore creative photography through pinhole cameras\, cyanotypes\, and light painting while experimenting with light and image-making. \n\n\n\n\n\n\n\n\n\n\nhttps://theartscenter.net/arts-adventures-summer
URL:https://theartscenter.net/event/photography-ages-10-14/2026-08-12/
LOCATION:Corvallis Museum\, 411 SW 2nd St\, Corvallis\, OR\, 97333\, United States
ATTACH;FMTTYPE=image/png:https://theartscenter.net/wp-content/uploads/2026/03/Website-Hero_1920x1080_Summer-Adventures-1-scaled.png
END:VEVENT
BEGIN:VEVENT
DTSTART;TZID=America/Los_Angeles:20260812T140000
DTEND;TZID=America/Los_Angeles:20260812T170000
DTSTAMP:20260422T084529
CREATED:20260309T232447Z
LAST-MODIFIED:20260409T203549Z
UID:10000698-1786543200-1786554000@theartscenter.net
SUMMARY:Drawing Adventures (Ages 10-14)
DESCRIPTION:Build drawing skills in a fun\, supportive environment. \n\n\n\n\n\n\n\n\n\n\nhttps://theartscenter.net/arts-adventures-summer
URL:https://theartscenter.net/event/drawing-adventures-ages-10-14/2026-08-12/
LOCATION:Corvallis Museum\, 411 SW 2nd St\, Corvallis\, OR\, 97333\, United States
ATTACH;FMTTYPE=image/png:https://theartscenter.net/wp-content/uploads/2026/03/Website-Hero_1920x1080_Summer-Adventures-1-scaled.png
END:VEVENT
BEGIN:VEVENT
DTSTART;TZID=America/Los_Angeles:20260813T090000
DTEND;TZID=America/Los_Angeles:20260813T120000
DTSTAMP:20260422T084529
CREATED:20260309T232325Z
LAST-MODIFIED:20260409T203524Z
UID:10000695-1786611600-1786622400@theartscenter.net
SUMMARY:Photography (Ages 10-14)
DESCRIPTION:Explore creative photography through pinhole cameras\, cyanotypes\, and light painting while experimenting with light and image-making. \n\n\n\n\n\n\n\n\n\n\nhttps://theartscenter.net/arts-adventures-summer
URL:https://theartscenter.net/event/photography-ages-10-14/2026-08-13/
LOCATION:Corvallis Museum\, 411 SW 2nd St\, Corvallis\, OR\, 97333\, United States
ATTACH;FMTTYPE=image/png:https://theartscenter.net/wp-content/uploads/2026/03/Website-Hero_1920x1080_Summer-Adventures-1-scaled.png
END:VEVENT
BEGIN:VEVENT
DTSTART;TZID=America/Los_Angeles:20260813T140000
DTEND;TZID=America/Los_Angeles:20260813T170000
DTSTAMP:20260422T084529
CREATED:20260309T232447Z
LAST-MODIFIED:20260409T203549Z
UID:10000699-1786629600-1786640400@theartscenter.net
SUMMARY:Drawing Adventures (Ages 10-14)
DESCRIPTION:Build drawing skills in a fun\, supportive environment. \n\n\n\n\n\n\n\n\n\n\nhttps://theartscenter.net/arts-adventures-summer
URL:https://theartscenter.net/event/drawing-adventures-ages-10-14/2026-08-13/
LOCATION:Corvallis Museum\, 411 SW 2nd St\, Corvallis\, OR\, 97333\, United States
ATTACH;FMTTYPE=image/png:https://theartscenter.net/wp-content/uploads/2026/03/Website-Hero_1920x1080_Summer-Adventures-1-scaled.png
END:VEVENT
BEGIN:VEVENT
DTSTART;TZID=America/Los_Angeles:20260813T180000
DTEND;TZID=America/Los_Angeles:20260813T200000
DTSTAMP:20260422T084529
CREATED:20260331T211512Z
LAST-MODIFIED:20260409T203320Z
UID:10000734-1786644000-1786651200@theartscenter.net
SUMMARY:Drawing & Perception
DESCRIPTION:Build your drawing skills by learning to see more deeply in this class with instructor Leah Wilson. Meeting Tuesdays and Thursdays\, July 28–August 13\, you’ll explore observational exercises like blind contour\, gesture\, and sustained studies to develop confident mark-making\, expressive line quality\, and a stronger understanding of space and perspective using charcoal. \n\n\n\n\n\n\n\n\n\n\nDrawing & Perception
URL:https://theartscenter.net/event/drawing-perception/2026-08-13/
LOCATION:Tunison Community Room\, 2270 SW Butterfield Dr\, Corvallis\, Oregon\, 97333
ATTACH;FMTTYPE=image/png:https://theartscenter.net/wp-content/uploads/2026/03/Apr-Sept-Classes-Event-Images-169-2.png
END:VEVENT
BEGIN:VEVENT
DTSTART;TZID=America/Los_Angeles:20260817T090000
DTEND;TZID=America/Los_Angeles:20260817T120000
DTSTAMP:20260422T084529
CREATED:20260309T233000Z
LAST-MODIFIED:20260409T203627Z
UID:10000708-1786957200-1786968000@theartscenter.net
SUMMARY:Painting (Ages 13-17)
DESCRIPTION:Build painting skills in a fun\, supportive environment. \n\n\n\n\n\n\n\n\n\n\nhttps://theartscenter.net/arts-adventures-summer
URL:https://theartscenter.net/event/painting-ages-13-17/2026-08-17/
LOCATION:The Arts Center – Downstairs Classroom\, 700 Sw Madison Ave\, Corvallis\, Oregon\, 97333
ATTACH;FMTTYPE=image/png:https://theartscenter.net/wp-content/uploads/2026/03/Website-Hero_1920x1080_Summer-Adventures-1-scaled.png
END:VEVENT
BEGIN:VEVENT
DTSTART;TZID=America/Los_Angeles:20260817T140000
DTEND;TZID=America/Los_Angeles:20260817T170000
DTSTAMP:20260422T084529
CREATED:20260309T232628Z
LAST-MODIFIED:20260409T203652Z
UID:10000700-1786975200-1786986000@theartscenter.net
SUMMARY:Collage & Mixed Media (Ages 10-14)
DESCRIPTION:Explore collage and mixed media in a supportive environment. \n\n\n\n\n\n\n\n\n\n\nhttps://theartscenter.net/arts-adventures-summer
URL:https://theartscenter.net/event/collage-mixed-media-ages-10-14/2026-08-17/
LOCATION:The Arts Center New Building\, 760 SW Madison\, Corvallis\, Oregon\, 97333
ATTACH;FMTTYPE=image/png:https://theartscenter.net/wp-content/uploads/2026/03/Website-Hero_1920x1080_Summer-Adventures-1-scaled.png
END:VEVENT
BEGIN:VEVENT
DTSTART;TZID=America/Los_Angeles:20260818T090000
DTEND;TZID=America/Los_Angeles:20260818T120000
DTSTAMP:20260422T084529
CREATED:20260309T233000Z
LAST-MODIFIED:20260409T203627Z
UID:10000709-1787043600-1787054400@theartscenter.net
SUMMARY:Painting (Ages 13-17)
DESCRIPTION:Build painting skills in a fun\, supportive environment. \n\n\n\n\n\n\n\n\n\n\nhttps://theartscenter.net/arts-adventures-summer
URL:https://theartscenter.net/event/painting-ages-13-17/2026-08-18/
LOCATION:The Arts Center – Downstairs Classroom\, 700 Sw Madison Ave\, Corvallis\, Oregon\, 97333
ATTACH;FMTTYPE=image/png:https://theartscenter.net/wp-content/uploads/2026/03/Website-Hero_1920x1080_Summer-Adventures-1-scaled.png
END:VEVENT
BEGIN:VEVENT
DTSTART;TZID=America/Los_Angeles:20260818T140000
DTEND;TZID=America/Los_Angeles:20260818T170000
DTSTAMP:20260422T084529
CREATED:20260309T232628Z
LAST-MODIFIED:20260409T203652Z
UID:10000701-1787061600-1787072400@theartscenter.net
SUMMARY:Collage & Mixed Media (Ages 10-14)
DESCRIPTION:Explore collage and mixed media in a supportive environment. \n\n\n\n\n\n\n\n\n\n\nhttps://theartscenter.net/arts-adventures-summer
URL:https://theartscenter.net/event/collage-mixed-media-ages-10-14/2026-08-18/
LOCATION:The Arts Center New Building\, 760 SW Madison\, Corvallis\, Oregon\, 97333
ATTACH;FMTTYPE=image/png:https://theartscenter.net/wp-content/uploads/2026/03/Website-Hero_1920x1080_Summer-Adventures-1-scaled.png
END:VEVENT
BEGIN:VEVENT
DTSTART;TZID=America/Los_Angeles:20260818T180000
DTEND;TZID=America/Los_Angeles:20260818T200000
DTSTAMP:20260422T084529
CREATED:20260225T234601Z
LAST-MODIFIED:20260409T203719Z
UID:10000654-1787076000-1787083200@theartscenter.net
SUMMARY:Figure Drawing Session
DESCRIPTION:Refine your drawing skills in our figure drawing sessions with a nude model—open to artists 18+. No instruction\, just focused time to create. \n\n\n\n\n\n\n\n\n\n\nFigure Drawing Sessions
URL:https://theartscenter.net/event/figure-drawing-session-17/
LOCATION:The Arts Center – New Building\, 760 SW Madison\, Corvallis\, Oregon\, 97333\, United States
ATTACH;FMTTYPE=image/png:https://theartscenter.net/wp-content/uploads/2025/07/800x600-e1752076638491.png
END:VEVENT
BEGIN:VEVENT
DTSTART;TZID=America/Los_Angeles:20260819T090000
DTEND;TZID=America/Los_Angeles:20260819T120000
DTSTAMP:20260422T084529
CREATED:20260309T233000Z
LAST-MODIFIED:20260409T203627Z
UID:10000710-1787130000-1787140800@theartscenter.net
SUMMARY:Painting (Ages 13-17)
DESCRIPTION:Build painting skills in a fun\, supportive environment. \n\n\n\n\n\n\n\n\n\n\nhttps://theartscenter.net/arts-adventures-summer
URL:https://theartscenter.net/event/painting-ages-13-17/2026-08-19/
LOCATION:The Arts Center – Downstairs Classroom\, 700 Sw Madison Ave\, Corvallis\, Oregon\, 97333
ATTACH;FMTTYPE=image/png:https://theartscenter.net/wp-content/uploads/2026/03/Website-Hero_1920x1080_Summer-Adventures-1-scaled.png
END:VEVENT
BEGIN:VEVENT
DTSTART;TZID=America/Los_Angeles:20260819T140000
DTEND;TZID=America/Los_Angeles:20260819T170000
DTSTAMP:20260422T084529
CREATED:20260309T232628Z
LAST-MODIFIED:20260409T203652Z
UID:10000702-1787148000-1787158800@theartscenter.net
SUMMARY:Collage & Mixed Media (Ages 10-14)
DESCRIPTION:Explore collage and mixed media in a supportive environment. \n\n\n\n\n\n\n\n\n\n\nhttps://theartscenter.net/arts-adventures-summer
URL:https://theartscenter.net/event/collage-mixed-media-ages-10-14/2026-08-19/
LOCATION:The Arts Center New Building\, 760 SW Madison\, Corvallis\, Oregon\, 97333
ATTACH;FMTTYPE=image/png:https://theartscenter.net/wp-content/uploads/2026/03/Website-Hero_1920x1080_Summer-Adventures-1-scaled.png
END:VEVENT
BEGIN:VEVENT
DTSTART;TZID=America/Los_Angeles:20260820T090000
DTEND;TZID=America/Los_Angeles:20260820T120000
DTSTAMP:20260422T084529
CREATED:20260309T233000Z
LAST-MODIFIED:20260409T203627Z
UID:10000711-1787216400-1787227200@theartscenter.net
SUMMARY:Painting (Ages 13-17)
DESCRIPTION:Build painting skills in a fun\, supportive environment. \n\n\n\n\n\n\n\n\n\n\nhttps://theartscenter.net/arts-adventures-summer
URL:https://theartscenter.net/event/painting-ages-13-17/2026-08-20/
LOCATION:The Arts Center – Downstairs Classroom\, 700 Sw Madison Ave\, Corvallis\, Oregon\, 97333
ATTACH;FMTTYPE=image/png:https://theartscenter.net/wp-content/uploads/2026/03/Website-Hero_1920x1080_Summer-Adventures-1-scaled.png
END:VEVENT
BEGIN:VEVENT
DTSTART;TZID=America/Los_Angeles:20260820T140000
DTEND;TZID=America/Los_Angeles:20260820T170000
DTSTAMP:20260422T084529
CREATED:20260309T232628Z
LAST-MODIFIED:20260409T203652Z
UID:10000703-1787234400-1787245200@theartscenter.net
SUMMARY:Collage & Mixed Media (Ages 10-14)
DESCRIPTION:Explore collage and mixed media in a supportive environment. \n\n\n\n\n\n\n\n\n\n\nhttps://theartscenter.net/arts-adventures-summer
URL:https://theartscenter.net/event/collage-mixed-media-ages-10-14/2026-08-20/
LOCATION:The Arts Center New Building\, 760 SW Madison\, Corvallis\, Oregon\, 97333
ATTACH;FMTTYPE=image/png:https://theartscenter.net/wp-content/uploads/2026/03/Website-Hero_1920x1080_Summer-Adventures-1-scaled.png
END:VEVENT
BEGIN:VEVENT
DTSTART;TZID=UTC:20260820T160000
DTEND;TZID=UTC:20260820T190000
DTSTAMP:20260422T084529
CREATED:20250306T191850Z
LAST-MODIFIED:20260409T200537Z
UID:10000079-1787241600-1787252400@theartscenter.net
SUMMARY:CAW
DESCRIPTION:The Corvallis Arts Walk (CAW) is a monthly event held by local artists every third Thursday of each month. View the stunning visual artwork at venues around town and experience the creative spirit of Corvallis. The Arts Center Main Gallery and Corrine Woodman Gallery are open every Thursday from 4-7pm for CAW. \nVisit Corvallis Arts Walk for up-to-date listings of all the participating venues.
URL:https://theartscenter.net/event/caw/2026-08-20/
LOCATION:The Arts Center\, 700 SW Madison Ave\, Corvallis\, OR\, 97330\, United States
ATTACH;FMTTYPE=image/png:https://theartscenter.net/wp-content/uploads/2025/03/Screen-Shot-2023-05-17-at-8.03.09-AM.png
END:VEVENT
BEGIN:VEVENT
DTSTART;TZID=UTC:20260903T173000
DTEND;TZID=UTC:20260903T190000
DTSTAMP:20260422T084529
CREATED:20250228T053838Z
LAST-MODIFIED:20260409T201011Z
UID:10000019-1788456600-1788462000@theartscenter.net
SUMMARY:Artist Meetups at TAC
DESCRIPTION:Join fellow creatives on First Thursdays! \nArtist Meetups are a welcoming space for creatives of all disciplines and experience levels to share work\, receive constructive feedback\, and discuss creative-world hot topics. We invite artists from all backgrounds\, including hobbyists\, emerging\, and established creatives\, with special encouragement for those from historically excluded communities\, to connect\, share\, and grow together. \n  \n 
URL:https://theartscenter.net/event/artist-meetup/2026-09-03/
LOCATION:The Arts Center\, 700 SW Madison Ave\, Corvallis\, OR\, 97330\, United States
ATTACH;FMTTYPE=image/png:https://theartscenter.net/wp-content/uploads/2024/12/OpenStudios.png
END:VEVENT
BEGIN:VEVENT
DTSTART;TZID=America/Los_Angeles:20260912T130000
DTEND;TZID=America/Los_Angeles:20260912T160000
DTSTAMP:20260422T084529
CREATED:20260114T223639Z
LAST-MODIFIED:20260409T203805Z
UID:10000616-1789218000-1789228800@theartscenter.net
SUMMARY:2nd Saturdays at TAC
DESCRIPTION:On the 2nd Saturday of each month\, TAC hosts a FREE\, drop-in afternoon of art making in our Main Gallery\, 1- 4 PM. All supplies are provided and all ages & experience levels are welcome!  \n\n\n\n\n\n\n\n\n\n\n2nd Saturdays at TAC
URL:https://theartscenter.net/event/2nd-saturdays-at-tac-18/
LOCATION:The Arts Center – Main Gallery\, 700 SW Madison\, Corvallis\, Oregon\, 97333\, United States
ATTACH;FMTTYPE=image/png:https://theartscenter.net/wp-content/uploads/2025/01/coral-reef-sample-pic.png
END:VEVENT
BEGIN:VEVENT
DTSTART;TZID=UTC:20260917T160000
DTEND;TZID=UTC:20260917T190000
DTSTAMP:20260422T084529
CREATED:20250306T191850Z
LAST-MODIFIED:20260409T200537Z
UID:10000080-1789660800-1789671600@theartscenter.net
SUMMARY:CAW
DESCRIPTION:The Corvallis Arts Walk (CAW) is a monthly event held by local artists every third Thursday of each month. View the stunning visual artwork at venues around town and experience the creative spirit of Corvallis. The Arts Center Main Gallery and Corrine Woodman Gallery are open every Thursday from 4-7pm for CAW. \nVisit Corvallis Arts Walk for up-to-date listings of all the participating venues.
URL:https://theartscenter.net/event/caw/2026-09-17/
LOCATION:The Arts Center\, 700 SW Madison Ave\, Corvallis\, OR\, 97330\, United States
ATTACH;FMTTYPE=image/png:https://theartscenter.net/wp-content/uploads/2025/03/Screen-Shot-2023-05-17-at-8.03.09-AM.png
END:VEVENT
BEGIN:VEVENT
DTSTART;TZID=UTC:20261001T173000
DTEND;TZID=UTC:20261001T190000
DTSTAMP:20260422T084529
CREATED:20250228T053838Z
LAST-MODIFIED:20260409T201011Z
UID:10000020-1790875800-1790881200@theartscenter.net
SUMMARY:Artist Meetups at TAC
DESCRIPTION:Join fellow creatives on First Thursdays! \nArtist Meetups are a welcoming space for creatives of all disciplines and experience levels to share work\, receive constructive feedback\, and discuss creative-world hot topics. We invite artists from all backgrounds\, including hobbyists\, emerging\, and established creatives\, with special encouragement for those from historically excluded communities\, to connect\, share\, and grow together. \n  \n 
URL:https://theartscenter.net/event/artist-meetup/2026-10-01/
LOCATION:The Arts Center\, 700 SW Madison Ave\, Corvallis\, OR\, 97330\, United States
ATTACH;FMTTYPE=image/png:https://theartscenter.net/wp-content/uploads/2024/12/OpenStudios.png
END:VEVENT
BEGIN:VEVENT
DTSTART;TZID=America/Los_Angeles:20261010T130000
DTEND;TZID=America/Los_Angeles:20261010T160000
DTSTAMP:20260422T084529
CREATED:20260114T223656Z
LAST-MODIFIED:20260414T170419Z
UID:10000617-1791637200-1791648000@theartscenter.net
SUMMARY:2nd Saturdays at TAC
DESCRIPTION:On the 2nd Saturday of each month\, TAC hosts a FREE\, drop-in afternoon of art making in our Main Gallery\, 1- 4 PM. All supplies are provided and all ages & experience levels are welcome!  \n\n\n\n\n\n\n\n\n\n\n2nd Saturdays at TAC
URL:https://theartscenter.net/event/2nd-saturdays-at-tac-19/
LOCATION:The Arts Center – Main Gallery\, 700 SW Madison\, Corvallis\, Oregon\, 97333\, United States
ATTACH;FMTTYPE=image/png:https://theartscenter.net/wp-content/uploads/2025/01/coral-reef-sample-pic.png
END:VEVENT
BEGIN:VEVENT
DTSTART;TZID=UTC:20261015T160000
DTEND;TZID=UTC:20261015T190000
DTSTAMP:20260422T084529
CREATED:20250306T191850Z
LAST-MODIFIED:20260409T200537Z
UID:10000081-1792080000-1792090800@theartscenter.net
SUMMARY:CAW
DESCRIPTION:The Corvallis Arts Walk (CAW) is a monthly event held by local artists every third Thursday of each month. View the stunning visual artwork at venues around town and experience the creative spirit of Corvallis. The Arts Center Main Gallery and Corrine Woodman Gallery are open every Thursday from 4-7pm for CAW. \nVisit Corvallis Arts Walk for up-to-date listings of all the participating venues.
URL:https://theartscenter.net/event/caw/2026-10-15/
LOCATION:The Arts Center\, 700 SW Madison Ave\, Corvallis\, OR\, 97330\, United States
ATTACH;FMTTYPE=image/png:https://theartscenter.net/wp-content/uploads/2025/03/Screen-Shot-2023-05-17-at-8.03.09-AM.png
END:VEVENT
END:VCALENDAR