BEGIN:VCALENDAR
VERSION:2.0
PRODID:-//The Arts Center - ECPv6.15.12.2//NONSGML v1.0//EN
CALSCALE:GREGORIAN
METHOD:PUBLISH
X-WR-CALNAME:The Arts Center
X-ORIGINAL-URL:https://theartscenter.net
X-WR-CALDESC:Events for The Arts Center
REFRESH-INTERVAL;VALUE=DURATION:PT1H
X-Robots-Tag:noindex
X-PUBLISHED-TTL:PT1H
BEGIN:VTIMEZONE
TZID:America/Los_Angeles
BEGIN:DAYLIGHT
TZOFFSETFROM:-0800
TZOFFSETTO:-0700
TZNAME:PDT
DTSTART:20240310T100000
END:DAYLIGHT
BEGIN:STANDARD
TZOFFSETFROM:-0700
TZOFFSETTO:-0800
TZNAME:PST
DTSTART:20241103T090000
END:STANDARD
BEGIN:DAYLIGHT
TZOFFSETFROM:-0800
TZOFFSETTO:-0700
TZNAME:PDT
DTSTART:20250309T100000
END:DAYLIGHT
BEGIN:STANDARD
TZOFFSETFROM:-0700
TZOFFSETTO:-0800
TZNAME:PST
DTSTART:20251102T090000
END:STANDARD
BEGIN:DAYLIGHT
TZOFFSETFROM:-0800
TZOFFSETTO:-0700
TZNAME:PDT
DTSTART:20260308T100000
END:DAYLIGHT
BEGIN:STANDARD
TZOFFSETFROM:-0700
TZOFFSETTO:-0800
TZNAME:PST
DTSTART:20261101T090000
END:STANDARD
BEGIN:DAYLIGHT
TZOFFSETFROM:-0800
TZOFFSETTO:-0700
TZNAME:PDT
DTSTART:20270314T100000
END:DAYLIGHT
BEGIN:STANDARD
TZOFFSETFROM:-0700
TZOFFSETTO:-0800
TZNAME:PST
DTSTART:20271107T090000
END:STANDARD
END:VTIMEZONE
BEGIN:VTIMEZONE
TZID:UTC
BEGIN:STANDARD
TZOFFSETFROM:+0000
TZOFFSETTO:+0000
TZNAME:UTC
DTSTART:20240101T000000
END:STANDARD
END:VTIMEZONE
BEGIN:VEVENT
DTSTART;TZID=America/Los_Angeles:20251021T173000
DTEND;TZID=America/Los_Angeles:20251021T190000
DTSTAMP:20260419T232442
CREATED:20250626T214710Z
LAST-MODIFIED:20250626T214711Z
UID:10000556-1761067800-1761073200@theartscenter.net
SUMMARY:Adult Craft Night
DESCRIPTION:TAC partners with the Corvallis-Benton County Public Library to provide free craft events for families and adults. For ages 16+.
URL:https://theartscenter.net/event/adult-craft-night-9/
LOCATION:Corvallis-Benton County Library Main Meeting Room\, 645 NW Monroe\, Corvallis\, OR\, 97330\, United States
END:VEVENT
BEGIN:VEVENT
DTSTART;TZID=America/Los_Angeles:20251025T180000
DTEND;TZID=America/Los_Angeles:20251025T220000
DTSTAMP:20260419T232442
CREATED:20250625T161747Z
LAST-MODIFIED:20250625T161747Z
UID:10000575-1761415200-1761429600@theartscenter.net
SUMMARY:SpecTACular: A Monster Ball
DESCRIPTION:Join us for SpecTACular: A Monster Ball\, The Arts Center’s most thrilling art fundraiser of the year. Generously hosted by the Corvallis Museum\, this monster-inspired evening blends art\, entertainment\, and costume—all to support The Arts Center’s mission. \n\n\n\n\n\n\n\n\n\n\nhttps://theartscenter.net/spectacular/
URL:https://theartscenter.net/event/spectacular-a-monster-ball/
LOCATION:Corvallis Museum\, 411 SW 2nd St\, Corvallis\, OR\, 97333\, United States
END:VEVENT
BEGIN:VEVENT
DTSTART;TZID=UTC:20251106T173000
DTEND;TZID=UTC:20251106T190000
DTSTAMP:20260419T232442
CREATED:20250228T053838Z
LAST-MODIFIED:20260409T201011Z
UID:10000009-1762450200-1762455600@theartscenter.net
SUMMARY:Artist Meetups at TAC
DESCRIPTION:Join fellow creatives on First Thursdays! \nArtist Meetups are a welcoming space for creatives of all disciplines and experience levels to share work\, receive constructive feedback\, and discuss creative-world hot topics. We invite artists from all backgrounds\, including hobbyists\, emerging\, and established creatives\, with special encouragement for those from historically excluded communities\, to connect\, share\, and grow together. \n  \n 
URL:https://theartscenter.net/event/artist-meetup/2025-11-06/
LOCATION:The Arts Center\, 700 SW Madison Ave\, Corvallis\, OR\, 97330\, United States
ATTACH;FMTTYPE=image/png:https://theartscenter.net/wp-content/uploads/2024/12/OpenStudios.png
END:VEVENT
BEGIN:VEVENT
DTSTART;TZID=America/Los_Angeles:20251107T180000
DTEND;TZID=America/Los_Angeles:20251107T200000
DTSTAMP:20260419T232442
CREATED:20250925T195023Z
LAST-MODIFIED:20250925T195024Z
UID:10000590-1762538400-1762545600@theartscenter.net
SUMMARY:Bead-acious Creations: Beaded Wire Sculpture Workshop
DESCRIPTION:Create a unique beaded wire sculpture in this three-session workshop with artist Linda Ward. Explore form\, color\, and texture while learning core techniques. Sessions are November 7\, 6:00-8:00 PM\, November 14\, 6:00 – 8:00 PM\, and November 15\, 9:00 – 11:00 AM. \n\n\n\n\n\n\n\n\n\n\nhttps://theartscenter.net/beaded-wire-sculpture-workshop/
URL:https://theartscenter.net/event/bead-acious-creations-beaded-wire-sculpture-workshop/
LOCATION:The Arts Center – Main Gallery\, 700 SW Madison\, Corvallis\, Oregon\, 97333\, United States
END:VEVENT
BEGIN:VEVENT
DTSTART;TZID=America/Los_Angeles:20251108T130000
DTEND;TZID=America/Los_Angeles:20251108T160000
DTSTAMP:20260419T232442
CREATED:20250521T203204Z
LAST-MODIFIED:20250521T203258Z
UID:10000565-1762606800-1762617600@theartscenter.net
SUMMARY:2nd Saturdays at TAC
DESCRIPTION:On the 2nd Saturday of each month\, TAC hosts a FREE\, drop-in afternoon of art making in our Main Gallery\, 1- 4 PM. All supplies are provided and all ages & experience levels are welcome!  \n\n\n\n\n\n\n\n\n\n\n2nd Saturdays at TAC
URL:https://theartscenter.net/event/874/
LOCATION:The Arts Center – Main Gallery\, 700 SW Madison\, Corvallis\, Oregon\, 97333\, United States
END:VEVENT
BEGIN:VEVENT
DTSTART;TZID=UTC:20251111T180000
DTEND;TZID=UTC:20251111T200000
DTSTAMP:20260419T232442
CREATED:20250814T212158Z
LAST-MODIFIED:20250814T212159Z
UID:10000587-1762884000-1762891200@theartscenter.net
SUMMARY:Figure Drawing Session
DESCRIPTION:Refine your drawing skills in our figure drawing sessions with a nude model—open to artists 18+. No instruction\, just focused time to create.
URL:https://theartscenter.net/event/figure-drawing-session-8/
LOCATION:The Arts Center – Main Gallery\, 700 SW Madison\, Corvallis\, Oregon\, 97333\, United States
END:VEVENT
BEGIN:VEVENT
DTSTART;TZID=America/Los_Angeles:20251114T180000
DTEND;TZID=America/Los_Angeles:20251114T200000
DTSTAMP:20260419T232442
CREATED:20250925T195157Z
LAST-MODIFIED:20250925T195157Z
UID:10000591-1763143200-1763150400@theartscenter.net
SUMMARY:Bead-acious Creations: Beaded Wire Sculpture Workshop
DESCRIPTION:Create a unique beaded wire sculpture in this three-session workshop with artist Linda Ward. Explore form\, color\, and texture while learning core techniques. Sessions are November 7\, 6:00-8:00 PM\, November 14\, 6:00 – 8:00 PM\, and November 15\, 9:00 – 11:00 AM. \n\n\n\n\n\n\n\n\n\n\nhttps://theartscenter.net/beaded-wire-sculpture-workshop/
URL:https://theartscenter.net/event/bead-acious-creations-beaded-wire-sculpture-workshop-2/
LOCATION:The Arts Center – Main Gallery\, 700 SW Madison\, Corvallis\, Oregon\, 97333\, United States
END:VEVENT
BEGIN:VEVENT
DTSTART;TZID=America/Los_Angeles:20251115T090000
DTEND;TZID=America/Los_Angeles:20251115T110000
DTSTAMP:20260419T232442
CREATED:20250925T195315Z
LAST-MODIFIED:20250925T195316Z
UID:10000592-1763197200-1763204400@theartscenter.net
SUMMARY:Bead-acious Creations: Beaded Wire Sculpture Workshop
DESCRIPTION:Create a unique beaded wire sculpture in this three-session workshop with artist Linda Ward. Explore form\, color\, and texture while learning core techniques. Sessions are November 7\, 6:00-8:00 PM\, November 14\, 6:00 – 8:00 PM\, and November 15\, 9:00 – 11:00 AM. \n\n\n\n\n\n\n\n\n\n\nhttps://theartscenter.net/beaded-wire-sculpture-workshop/
URL:https://theartscenter.net/event/bead-acious-creations-beaded-wire-sculpture-workshop-3/
LOCATION:The Arts Center – Main Gallery\, 700 SW Madison\, Corvallis\, Oregon\, 97333\, United States
END:VEVENT
BEGIN:VEVENT
DTSTART;TZID=America/Los_Angeles:20251118T173000
DTEND;TZID=America/Los_Angeles:20251118T190000
DTSTAMP:20260419T232442
CREATED:20250626T214847Z
LAST-MODIFIED:20250626T214848Z
UID:10000557-1763487000-1763492400@theartscenter.net
SUMMARY:Adult Craft Night
DESCRIPTION:TAC partners with the Corvallis-Benton County Public Library to provide free craft events for families and adults. For ages 16+.
URL:https://theartscenter.net/event/adult-craft-night-10/
LOCATION:Corvallis-Benton County Library Main Meeting Room\, 645 NW Monroe\, Corvallis\, OR\, 97330\, United States
END:VEVENT
BEGIN:VEVENT
DTSTART;TZID=UTC:20251120T160000
DTEND;TZID=UTC:20251120T190000
DTSTAMP:20260419T232442
CREATED:20250306T191850Z
LAST-MODIFIED:20260409T200537Z
UID:10000070-1763654400-1763665200@theartscenter.net
SUMMARY:CAW
DESCRIPTION:The Corvallis Arts Walk (CAW) is a monthly event held by local artists every third Thursday of each month. View the stunning visual artwork at venues around town and experience the creative spirit of Corvallis. The Arts Center Main Gallery and Corrine Woodman Gallery are open every Thursday from 4-7pm for CAW. \nVisit Corvallis Arts Walk for up-to-date listings of all the participating venues.
URL:https://theartscenter.net/event/caw/2025-11-20/
LOCATION:The Arts Center\, 700 SW Madison Ave\, Corvallis\, OR\, 97330\, United States
ATTACH;FMTTYPE=image/png:https://theartscenter.net/wp-content/uploads/2025/03/Screen-Shot-2023-05-17-at-8.03.09-AM.png
END:VEVENT
BEGIN:VEVENT
DTSTART;TZID=UTC:20251204T173000
DTEND;TZID=UTC:20251204T190000
DTSTAMP:20260419T232442
CREATED:20250228T053838Z
LAST-MODIFIED:20260409T201011Z
UID:10000010-1764869400-1764874800@theartscenter.net
SUMMARY:Artist Meetups at TAC
DESCRIPTION:Join fellow creatives on First Thursdays! \nArtist Meetups are a welcoming space for creatives of all disciplines and experience levels to share work\, receive constructive feedback\, and discuss creative-world hot topics. We invite artists from all backgrounds\, including hobbyists\, emerging\, and established creatives\, with special encouragement for those from historically excluded communities\, to connect\, share\, and grow together. \n  \n 
URL:https://theartscenter.net/event/artist-meetup/2025-12-04/
LOCATION:The Arts Center\, 700 SW Madison Ave\, Corvallis\, OR\, 97330\, United States
ATTACH;FMTTYPE=image/png:https://theartscenter.net/wp-content/uploads/2024/12/OpenStudios.png
END:VEVENT
BEGIN:VEVENT
DTSTART;TZID=UTC:20251209T180000
DTEND;TZID=UTC:20251209T200000
DTSTAMP:20260419T232442
CREATED:20250814T212319Z
LAST-MODIFIED:20250919T211119Z
UID:10000588-1765303200-1765310400@theartscenter.net
SUMMARY:Figure Drawing Session
DESCRIPTION:Refine your drawing skills in our figure drawing sessions with a nude model—open to artists 18+. No instruction\, just focused time to create. \n 
URL:https://theartscenter.net/event/figure-drawing-session-9/
LOCATION:Corvallis Museum\, 411 SW 2nd St\, Corvallis\, OR\, 97333\, United States
END:VEVENT
BEGIN:VEVENT
DTSTART;TZID=America/Los_Angeles:20251213T130000
DTEND;TZID=America/Los_Angeles:20251213T160000
DTSTAMP:20260419T232442
CREATED:20250521T203352Z
LAST-MODIFIED:20250521T203353Z
UID:10000566-1765630800-1765641600@theartscenter.net
SUMMARY:2nd Saturdays at TAC
DESCRIPTION:On the 2nd Saturday of each month\, TAC hosts a FREE\, drop-in afternoon of art making in our Main Gallery\, 1- 4 PM. All supplies are provided and all ages & experience levels are welcome!  \n\n\n\n\n\n\n\n\n\n\n2nd Saturdays at TAC
URL:https://theartscenter.net/event/2nd-saturdays-at-tac-9/
LOCATION:The Arts Center – Main Gallery\, 700 SW Madison\, Corvallis\, Oregon\, 97333\, United States
END:VEVENT
BEGIN:VEVENT
DTSTART;TZID=America/Los_Angeles:20251216T173000
DTEND;TZID=America/Los_Angeles:20251216T190000
DTSTAMP:20260419T232442
CREATED:20250626T214958Z
LAST-MODIFIED:20250626T214959Z
UID:10000558-1765906200-1765911600@theartscenter.net
SUMMARY:Adult Craft Night
DESCRIPTION:TAC partners with the Corvallis-Benton County Public Library to provide free craft events for families and adults. For ages 16+.
URL:https://theartscenter.net/event/adult-craft-night-11/
LOCATION:Corvallis-Benton County Library Main Meeting Room\, 645 NW Monroe\, Corvallis\, OR\, 97330\, United States
END:VEVENT
BEGIN:VEVENT
DTSTART;TZID=UTC:20251218T160000
DTEND;TZID=UTC:20251218T190000
DTSTAMP:20260419T232442
CREATED:20250306T191850Z
LAST-MODIFIED:20260409T200537Z
UID:10000071-1766073600-1766084400@theartscenter.net
SUMMARY:CAW
DESCRIPTION:The Corvallis Arts Walk (CAW) is a monthly event held by local artists every third Thursday of each month. View the stunning visual artwork at venues around town and experience the creative spirit of Corvallis. The Arts Center Main Gallery and Corrine Woodman Gallery are open every Thursday from 4-7pm for CAW. \nVisit Corvallis Arts Walk for up-to-date listings of all the participating venues.
URL:https://theartscenter.net/event/caw/2025-12-18/
LOCATION:The Arts Center\, 700 SW Madison Ave\, Corvallis\, OR\, 97330\, United States
ATTACH;FMTTYPE=image/png:https://theartscenter.net/wp-content/uploads/2025/03/Screen-Shot-2023-05-17-at-8.03.09-AM.png
END:VEVENT
BEGIN:VEVENT
DTSTART;TZID=America/Los_Angeles:20251222T090000
DTEND;TZID=America/Los_Angeles:20251222T120000
DTSTAMP:20260419T232442
CREATED:20251007T203854Z
LAST-MODIFIED:20251218T185718Z
UID:10000593-1766394000-1766404800@theartscenter.net
SUMMARY:Creative Cardmaking Workshop
DESCRIPTION:Celebrate the season with a fun morning of festive card making! Learn creative techniques — all supplies provided. \n\n\n\n\n\n\n\n\n\n\nhttps://theartscenter.net/teen-cardmaking/
URL:https://theartscenter.net/event/creative-cardmaking-workshop/
LOCATION:The Arts Center – Main Gallery\, 700 SW Madison\, Corvallis\, Oregon\, 97333\, United States
END:VEVENT
BEGIN:VEVENT
DTSTART;TZID=UTC:20260101T173000
DTEND;TZID=UTC:20260101T190000
DTSTAMP:20260419T232442
CREATED:20250228T053838Z
LAST-MODIFIED:20260409T201011Z
UID:10000752-1767288600-1767294000@theartscenter.net
SUMMARY:Artist Meetups at TAC
DESCRIPTION:Join fellow creatives on First Thursdays! \nArtist Meetups are a welcoming space for creatives of all disciplines and experience levels to share work\, receive constructive feedback\, and discuss creative-world hot topics. We invite artists from all backgrounds\, including hobbyists\, emerging\, and established creatives\, with special encouragement for those from historically excluded communities\, to connect\, share\, and grow together. \n  \n 
URL:https://theartscenter.net/event/artist-meetup/2026-01-01/
LOCATION:The Arts Center\, 700 SW Madison Ave\, Corvallis\, OR\, 97330\, United States
ATTACH;FMTTYPE=image/png:https://theartscenter.net/wp-content/uploads/2024/12/OpenStudios.png
END:VEVENT
BEGIN:VEVENT
DTSTART;TZID=America/Los_Angeles:20260110T130000
DTEND;TZID=America/Los_Angeles:20260110T160000
DTSTAMP:20260419T232442
CREATED:20251201T191200Z
LAST-MODIFIED:20251201T191201Z
UID:10000597-1768050000-1768060800@theartscenter.net
SUMMARY:2nd Saturdays at TAC
DESCRIPTION:On the 2nd Saturday of each month\, TAC hosts a FREE\, drop-in afternoon of art making in our Main Gallery\, 1- 4 PM. All supplies are provided and all ages & experience levels are welcome!  \n\n\n\n\n\n\n\n\n\n\n2nd Saturdays at TAC
URL:https://theartscenter.net/event/2nd-saturdays-at-tac-10/
LOCATION:The Arts Center – Main Gallery\, 700 SW Madison\, Corvallis\, Oregon\, 97333\, United States
END:VEVENT
BEGIN:VEVENT
DTSTART;TZID=UTC:20260115T160000
DTEND;TZID=UTC:20260115T190000
DTSTAMP:20260419T232442
CREATED:20250306T191850Z
LAST-MODIFIED:20260409T200537Z
UID:10000072-1768492800-1768503600@theartscenter.net
SUMMARY:CAW
DESCRIPTION:The Corvallis Arts Walk (CAW) is a monthly event held by local artists every third Thursday of each month. View the stunning visual artwork at venues around town and experience the creative spirit of Corvallis. The Arts Center Main Gallery and Corrine Woodman Gallery are open every Thursday from 4-7pm for CAW. \nVisit Corvallis Arts Walk for up-to-date listings of all the participating venues.
URL:https://theartscenter.net/event/caw/2026-01-15/
LOCATION:The Arts Center\, 700 SW Madison Ave\, Corvallis\, OR\, 97330\, United States
ATTACH;FMTTYPE=image/png:https://theartscenter.net/wp-content/uploads/2025/03/Screen-Shot-2023-05-17-at-8.03.09-AM.png
END:VEVENT
BEGIN:VEVENT
DTSTART;TZID=America/Los_Angeles:20260116T180000
DTEND;TZID=America/Los_Angeles:20260116T200000
DTSTAMP:20260419T232442
CREATED:20251216T001416Z
LAST-MODIFIED:20251216T001418Z
UID:10000598-1768586400-1768593600@theartscenter.net
SUMMARY:Pinot & Paint
DESCRIPTION:Enjoy a relaxing 21+ paint and sip with wine\, light snacks\, and step-by-step acrylic painting in a creative studio setting. \n\n\n\n\n\n\n\n\n\n\nhttps://theartscenter.net/pinot-paint/
URL:https://theartscenter.net/event/pinot-paint/
LOCATION:The Arts Center – Main Gallery\, 700 SW Madison\, Corvallis\, Oregon\, 97333\, United States
END:VEVENT
BEGIN:VEVENT
DTSTART;TZID=UTC:20260120T180000
DTEND;TZID=UTC:20260120T200000
DTSTAMP:20260419T232442
CREATED:20251107T190740Z
LAST-MODIFIED:20251107T190741Z
UID:10000594-1768932000-1768939200@theartscenter.net
SUMMARY:Figure Drawing Session
DESCRIPTION:Refine your drawing skills in our figure drawing sessions with a nude model—open to artists 18+. No instruction\, just focused time to create.
URL:https://theartscenter.net/event/figure-drawing-session-10/
LOCATION:The Arts Center – Main Gallery\, 700 SW Madison\, Corvallis\, Oregon\, 97333\, United States
END:VEVENT
BEGIN:VEVENT
DTSTART;TZID=America/Los_Angeles:20260127T173000
DTEND;TZID=America/Los_Angeles:20260127T190000
DTSTAMP:20260419T232442
CREATED:20260113T214725Z
LAST-MODIFIED:20260113T214726Z
UID:10000607-1769535000-1769540400@theartscenter.net
SUMMARY:TAC Makes @ C3
DESCRIPTION:
URL:https://theartscenter.net/event/tac-makes-c3-2/
LOCATION:Corvallis Community Center\, 2601 NW Tyler\, Corvallis\, Oregon\, 97330
END:VEVENT
BEGIN:VEVENT
DTSTART;TZID=America/Los_Angeles:20260203T120000
DTEND;TZID=America/Los_Angeles:20260203T170000
DTSTAMP:20260419T232442
CREATED:20260128T235031Z
LAST-MODIFIED:20260128T235032Z
UID:10000623-1770120000-1770138000@theartscenter.net
SUMMARY:Serendipity - Exhibition Opening
DESCRIPTION:Serendipity by Avery McDowell opens to the public on Tuesday\, February 3\, 2026\, in the Corrine Woodman Gallery. On view through February 28\, 2026. \n\n\n\nReception and Artist Talk: Thursday\, February 19  5:30 – 7:00 PM \n\n\n\n\n\n\n\n\n\n\nSerendipity – Avery McDowell
URL:https://theartscenter.net/event/serendipity-exhibition-opening/
LOCATION:The Arts Center\, 700 SW Madison Ave\, Corvallis\, OR\, 97330\, United States
END:VEVENT
BEGIN:VEVENT
DTSTART;TZID=UTC:20260205T173000
DTEND;TZID=UTC:20260205T190000
DTSTAMP:20260419T232442
CREATED:20250228T053838Z
LAST-MODIFIED:20260409T201011Z
UID:10000012-1770312600-1770318000@theartscenter.net
SUMMARY:Artist Meetups at TAC
DESCRIPTION:Join fellow creatives on First Thursdays! \nArtist Meetups are a welcoming space for creatives of all disciplines and experience levels to share work\, receive constructive feedback\, and discuss creative-world hot topics. We invite artists from all backgrounds\, including hobbyists\, emerging\, and established creatives\, with special encouragement for those from historically excluded communities\, to connect\, share\, and grow together. \n  \n 
URL:https://theartscenter.net/event/artist-meetup/2026-02-05/
LOCATION:The Arts Center\, 700 SW Madison Ave\, Corvallis\, OR\, 97330\, United States
ATTACH;FMTTYPE=image/png:https://theartscenter.net/wp-content/uploads/2024/12/OpenStudios.png
END:VEVENT
BEGIN:VEVENT
DTSTART;TZID=America/Los_Angeles:20260207T130000
DTEND;TZID=America/Los_Angeles:20260207T140000
DTSTAMP:20260419T232442
CREATED:20260128T232735Z
LAST-MODIFIED:20260128T232736Z
UID:10000620-1770469200-1770472800@theartscenter.net
SUMMARY:Unlocking Art
DESCRIPTION:Unlocking Art is a new free community engagement program at The Arts Center that invites you to experience exhibitions in fresh and meaningful ways. Spark fresh ways of seeing and connecting with the Ruth and Jim Howland Community Open through volunteer lead interactive activities in TAC’s main gallery. \n\n\n\n\n\n\n\n\n\n\nUnlocking Art
URL:https://theartscenter.net/event/unlocking-art/
LOCATION:The Arts Center – Main Gallery\, 700 SW Madison\, Corvallis\, Oregon\, 97333\, United States
END:VEVENT
BEGIN:VEVENT
DTSTART;TZID=UTC:20260210T180000
DTEND;TZID=UTC:20260210T200000
DTSTAMP:20260419T232442
CREATED:20251107T190857Z
LAST-MODIFIED:20251107T190858Z
UID:10000595-1770746400-1770753600@theartscenter.net
SUMMARY:Figure Drawing Session
DESCRIPTION:Refine your drawing skills in our figure drawing sessions with a nude model—open to artists 18+. No instruction\, just focused time to create.
URL:https://theartscenter.net/event/figure-drawing-session-11/
LOCATION:Corvallis Museum\, 411 SW 2nd St\, Corvallis\, OR\, 97333\, United States
END:VEVENT
BEGIN:VEVENT
DTSTART;TZID=America/Los_Angeles:20260214T130000
DTEND;TZID=America/Los_Angeles:20260214T160000
DTSTAMP:20260419T232442
CREATED:20260114T223329Z
LAST-MODIFIED:20260120T220941Z
UID:10000609-1771074000-1771084800@theartscenter.net
SUMMARY:2nd Saturdays at TAC
DESCRIPTION:This February\, we’re spreading color and kindness with free art kits featuring two uplifting projects: a butterfly origami and a felted heart craft. \n\n\n\nPick up your kit February 3 -14 during open hours\, Tuesday – Saturday\, 12:00 – 5:00 PM. \n\n\n\n\n\n\n\n\n\n\n2nd Saturdays at TAC
URL:https://theartscenter.net/event/2nd-saturdays-at-tac-11/
LOCATION:The Arts Center – Main Gallery\, 700 SW Madison\, Corvallis\, Oregon\, 97333\, United States
END:VEVENT
BEGIN:VEVENT
DTSTART;TZID=America/Los_Angeles:20260216T160000
DTEND;TZID=America/Los_Angeles:20260216T180000
DTSTAMP:20260419T232442
CREATED:20260105T194849Z
LAST-MODIFIED:20260105T194850Z
UID:10000603-1771257600-1771264800@theartscenter.net
SUMMARY:Figure Drawing for Teens
DESCRIPTION:Build confidence and sharpen your skills in this 4-day hands-on figure drawing class for ages 13–17. Learn foundational principles of working from a live model\, explore charcoal techniques\, and strengthen your observational drawing in a supportive studio environment. All materials provided; registration required. \n\n\n\n\n\n\n\n\n\n\nhttps://theartscenter.net/teen-figure-drawing/
URL:https://theartscenter.net/event/figure-drawing-for-teens/
LOCATION:The Arts Center – Downstairs Classroom\, 700 Sw Madison Ave\, Corvallis\, Oregon\, 97333
END:VEVENT
BEGIN:VEVENT
DTSTART;TZID=America/Los_Angeles:20260217T160000
DTEND;TZID=America/Los_Angeles:20260217T180000
DTSTAMP:20260419T232442
CREATED:20260105T194955Z
LAST-MODIFIED:20260105T194956Z
UID:10000604-1771344000-1771351200@theartscenter.net
SUMMARY:Figure Drawing for Teens
DESCRIPTION:Build confidence and sharpen your skills in this 4-day hands-on figure drawing class for ages 13–17. Learn foundational principles of working from a live model\, explore charcoal techniques\, and strengthen your observational drawing in a supportive studio environment. All materials provided; registration required. \n\n\n\n\n\n\n\n\n\n\nhttps://theartscenter.net/teen-figure-drawing/
URL:https://theartscenter.net/event/figure-drawing-for-teens-2/
LOCATION:The Arts Center – Downstairs Classroom\, 700 Sw Madison Ave\, Corvallis\, Oregon\, 97333
END:VEVENT
BEGIN:VEVENT
DTSTART;TZID=America/Los_Angeles:20260218T160000
DTEND;TZID=America/Los_Angeles:20260218T180000
DTSTAMP:20260419T232442
CREATED:20260105T195011Z
LAST-MODIFIED:20260105T195013Z
UID:10000605-1771430400-1771437600@theartscenter.net
SUMMARY:Figure Drawing for Teens
DESCRIPTION:Build confidence and sharpen your skills in this 4-day hands-on figure drawing class for ages 13–17. Learn foundational principles of working from a live model\, explore charcoal techniques\, and strengthen your observational drawing in a supportive studio environment. All materials provided; registration required. \n\n\n\n\n\n\n\n\n\n\nhttps://theartscenter.net/teen-figure-drawing/
URL:https://theartscenter.net/event/figure-drawing-for-teens-3/
LOCATION:The Arts Center – Downstairs Classroom\, 700 Sw Madison Ave\, Corvallis\, Oregon\, 97333
END:VEVENT
END:VCALENDAR