BEGIN:VCALENDAR
VERSION:2.0
PRODID:-//The Arts Center - ECPv6.15.12.2//NONSGML v1.0//EN
CALSCALE:GREGORIAN
METHOD:PUBLISH
X-WR-CALNAME:The Arts Center
X-ORIGINAL-URL:https://theartscenter.net
X-WR-CALDESC:Events for The Arts Center
REFRESH-INTERVAL;VALUE=DURATION:PT1H
X-Robots-Tag:noindex
X-PUBLISHED-TTL:PT1H
BEGIN:VTIMEZONE
TZID:America/Los_Angeles
BEGIN:DAYLIGHT
TZOFFSETFROM:-0800
TZOFFSETTO:-0700
TZNAME:PDT
DTSTART:20240310T100000
END:DAYLIGHT
BEGIN:STANDARD
TZOFFSETFROM:-0700
TZOFFSETTO:-0800
TZNAME:PST
DTSTART:20241103T090000
END:STANDARD
BEGIN:DAYLIGHT
TZOFFSETFROM:-0800
TZOFFSETTO:-0700
TZNAME:PDT
DTSTART:20250309T100000
END:DAYLIGHT
BEGIN:STANDARD
TZOFFSETFROM:-0700
TZOFFSETTO:-0800
TZNAME:PST
DTSTART:20251102T090000
END:STANDARD
BEGIN:DAYLIGHT
TZOFFSETFROM:-0800
TZOFFSETTO:-0700
TZNAME:PDT
DTSTART:20260308T100000
END:DAYLIGHT
BEGIN:STANDARD
TZOFFSETFROM:-0700
TZOFFSETTO:-0800
TZNAME:PST
DTSTART:20261101T090000
END:STANDARD
END:VTIMEZONE
BEGIN:VTIMEZONE
TZID:UTC
BEGIN:STANDARD
TZOFFSETFROM:+0000
TZOFFSETTO:+0000
TZNAME:UTC
DTSTART:20240101T000000
END:STANDARD
END:VTIMEZONE
BEGIN:VEVENT
DTSTART;TZID=America/Los_Angeles:20250320T173000
DTEND;TZID=America/Los_Angeles:20250320T190000
DTSTAMP:20260419T100530
CREATED:20250219T073128Z
LAST-MODIFIED:20250219T073249Z
UID:10000181-1742491800-1742497200@theartscenter.net
SUMMARY:Resting My Bones - Opening Reception
DESCRIPTION:Join artist Steve Ehret at The Arts Center for the opening reception on Resting My Bones. Ehret will be putting the finishing touches on his mural\, and answering questions related to the exhibition. \nResting My Bones is an exhibition in which Ohio artist Steve Ehret works through intimate struggles with death\, separation and fatherhood. In his paintings\, Ehret magnifies the beauty of the mundane through imagined landscapes inspired by the industrial midwest. He presents creatures\, personified emotions\, who distract and impeach his personal growth\, while continually embracing the humor\, beauty and magic found in everyday life. \n  \nResting My Bones is on view in TAC’s Main Gallery March 20 – May 3\, 2025. Normal business hours are Tuesday – Saturday\, 12 – 5 PM.
URL:https://theartscenter.net/event/resting-my-bones-opening-reception/
LOCATION:The Arts Center\, 700 SW Madison Ave\, Corvallis\, OR\, 97330\, United States
END:VEVENT
BEGIN:VEVENT
DTSTART;TZID=UTC:20250320T160000
DTEND;TZID=UTC:20250320T190000
DTSTAMP:20260419T100530
CREATED:20250306T191850Z
LAST-MODIFIED:20260409T200537Z
UID:10000062-1742486400-1742497200@theartscenter.net
SUMMARY:CAW
DESCRIPTION:The Corvallis Arts Walk (CAW) is a monthly event held by local artists every third Thursday of each month. View the stunning visual artwork at venues around town and experience the creative spirit of Corvallis. The Arts Center Main Gallery and Corrine Woodman Gallery are open every Thursday from 4-7pm for CAW. \nVisit Corvallis Arts Walk for up-to-date listings of all the participating venues.
URL:https://theartscenter.net/event/caw/2025-03-20/
LOCATION:The Arts Center\, 700 SW Madison Ave\, Corvallis\, OR\, 97330\, United States
ATTACH;FMTTYPE=image/png:https://theartscenter.net/wp-content/uploads/2025/03/Screen-Shot-2023-05-17-at-8.03.09-AM.png
END:VEVENT
BEGIN:VEVENT
DTSTART;TZID=America/Los_Angeles:20250318T173000
DTEND;TZID=America/Los_Angeles:20250318T190000
DTSTAMP:20260419T100530
CREATED:20250312T162721Z
LAST-MODIFIED:20250312T163703Z
UID:10000199-1742319000-1742324400@theartscenter.net
SUMMARY:Adult Craft Night
DESCRIPTION:TAC partners with the Corvallis-Benton County Public Library to provide free craft events for families and adults.  \n\n\n\nThis month for Adult Craft Night\, we will be making millefiori beads. For ages 16+.
URL:https://theartscenter.net/event/adult-craft-night/
LOCATION:Corvallis-Benton County Library Main Meeting Room\, 645 NW Monroe\, Corvallis\, OR\, 97330\, United States
END:VEVENT
BEGIN:VEVENT
DTSTART;TZID=UTC:20250308T130000
DTEND;TZID=UTC:20250308T160000
DTSTAMP:20260419T100530
CREATED:20250228T052849Z
LAST-MODIFIED:20250306T185353Z
UID:10000121-1741438800-1741449600@theartscenter.net
SUMMARY:2nd Saturdays at TAC
DESCRIPTION:On the 2nd Saturday of each month\, TAC hosts a FREE\, drop-in afternoon of art making in our Main Gallery\, 1- 4 PM. All supplies are provided and all ages & experience levels are welcome! \nThis March\, we will make Expressive Art Journals. Create your own mixed media art journal! Add drawings\, collages\, and personal touches to capture your thoughts and adventures.
URL:https://theartscenter.net/event/2nd-saturdays-at-tac/
LOCATION:The Arts Center\, 700 SW Madison Ave\, Corvallis\, OR\, 97330\, United States
END:VEVENT
BEGIN:VEVENT
DTSTART;TZID=UTC:20250306T173000
DTEND;TZID=UTC:20250306T190000
DTSTAMP:20260419T100530
CREATED:20250228T053838Z
LAST-MODIFIED:20260409T201011Z
UID:10000001-1741282200-1741287600@theartscenter.net
SUMMARY:Artist Meetups at TAC
DESCRIPTION:Join fellow creatives on First Thursdays! \nArtist Meetups are a welcoming space for creatives of all disciplines and experience levels to share work\, receive constructive feedback\, and discuss creative-world hot topics. We invite artists from all backgrounds\, including hobbyists\, emerging\, and established creatives\, with special encouragement for those from historically excluded communities\, to connect\, share\, and grow together. \n  \n 
URL:https://theartscenter.net/event/artist-meetup/2025-03-06/
LOCATION:The Arts Center\, 700 SW Madison Ave\, Corvallis\, OR\, 97330\, United States
ATTACH;FMTTYPE=image/png:https://theartscenter.net/wp-content/uploads/2024/12/OpenStudios.png
END:VEVENT
BEGIN:VEVENT
DTSTART;TZID=UTC:20250220T160000
DTEND;TZID=UTC:20250220T190000
DTSTAMP:20260419T100530
CREATED:20250306T191850Z
LAST-MODIFIED:20260409T200537Z
UID:10000061-1740067200-1740078000@theartscenter.net
SUMMARY:CAW
DESCRIPTION:The Corvallis Arts Walk (CAW) is a monthly event held by local artists every third Thursday of each month. View the stunning visual artwork at venues around town and experience the creative spirit of Corvallis. The Arts Center Main Gallery and Corrine Woodman Gallery are open every Thursday from 4-7pm for CAW. \nVisit Corvallis Arts Walk for up-to-date listings of all the participating venues.
URL:https://theartscenter.net/event/caw/2025-02-20/
LOCATION:The Arts Center\, 700 SW Madison Ave\, Corvallis\, OR\, 97330\, United States
ATTACH;FMTTYPE=image/png:https://theartscenter.net/wp-content/uploads/2025/03/Screen-Shot-2023-05-17-at-8.03.09-AM.png
END:VEVENT
END:VCALENDAR